BEGIN:VCALENDAR
VERSION:2.0
PRODID:-//ChamberMaster//Event Calendar 2.0//EN
METHOD:PUBLISH
X-PUBLISHED-TTL:P3D
REFRESH-INTERVAL:P3D
CALSCALE:GREGORIAN
BEGIN:VEVENT
DTSTART:20190310T203000Z
DTEND:20190311T010000Z
X-MICROSOFT-CDO-ALLDAYEVENT:FALSE
SUMMARY:10TH ANNUAL BOWL FOR A PRECIOUS CHILD TOURNAMENT
DESCRIPTION:Celebrating its 10th year\, our annual (friendly!) competition is a collaborative effort between the North Metro Fire Rescue District and the Broomfield Police Department. Please join us as a bowler or spectator for two rounds of bowling\, a drawing with fantastic prizes\, fun games\, contests\, and pizza. This event truly is fun for the whole family! All members of the community are welcome. Email CC@APreciousChild.org for event sponsorship information. Event registration will open Tuesday\, January 8th.
X-ALT-DESC;FMTTYPE=text/html:Celebrating its 10th year\, our annual (friendly!) competition is a collaborative effort between the North Metro Fire Rescue District and the Broomfield Police Department. Please join us as a bowler or spectator for two rounds of bowling\, a drawing with fantastic prizes\, fun games\, contests\, and pizza. This event truly is fun for the whole family! All members of the community are welcome. Email CC@APreciousChild.org for event sponsorship information. Event registration will open Tuesday\, January 8th.
LOCATION:Brunswick Zone Westminster Lanes 9050 Harlan St. Westminster\, CO 80031
UID:e.2690.10198
SEQUENCE:3
DTSTAMP:20260420T043734Z
URL:https://www.westminsterchamber.biz/events/details/10th-annual-bowl-for-a-precious-child-tournament-10198
END:VEVENT

END:VCALENDAR
