BEGIN:VCALENDAR
VERSION:2.0
PRODID:-//ChamberMaster//Event Calendar 2.0//EN
METHOD:PUBLISH
X-PUBLISHED-TTL:P3D
REFRESH-INTERVAL:P3D
CALSCALE:GREGORIAN
BEGIN:VEVENT
DTSTART:20180929T170000Z
DTEND:20180929T210000Z
X-MICROSOFT-CDO-ALLDAYEVENT:FALSE
SUMMARY:1st Annual COUNTRY Financial Cornhole Tournament
DESCRIPTION:1st Annual COUNTRY Financial Cornhole Tournament\n\n\n\nSaturday\, September 29\, 2018 11:00am Check In Time: 10:45am\n\n\n\nEntry Fee: $25/two-player team \n\n\n\n16 Team Maximum\; 3-game guarantee\; First to 21 and win by 2 points (rally scoring). Championship & 3rd place game will be best of 2/3 games.\n\n\n\nPrizes will be awarded to the top 3 finishers: 1st - 62.5% 2nd - 25% 3rd - 12.5% *IF 16 teams enter\, pay outs will be: 1st - $250 2nd - $100 3rd - $50\n\n\n\nRaffle Prizes to be awarded throughout the tournament (anyone who registers at the COUNTRY Financial Tent will be placed in the raffle drawings for one of 3 $50 gift cards to Frolic Brewing Company\; and one $50 gift card will go to the Best Costume/Outfit Team as voted on by the other teams.\n\n\n\nWith each team registration\, each player 21 and over will be provided 2 drink tickets\n\n\n\nEncourage your family\, friends and neighbors to come join the fun! There will be other giveaways during the tournament\n\n\n\n*Once registered\, please email your Team's name & players names to Heather.Schneider@countryfinancial.com
X-ALT-DESC;FMTTYPE=text/html:<span style="color:rgb(29\, 33\, 41)\; font-family:helvetica\,arial\,sans-serif\; font-size:14px">1st Annual COUNTRY Financial Cornhole Tournament</span><br />\n<br />\n<span style="color:rgb(29\, 33\, 41)\; font-family:helvetica\,arial\,sans-serif\; font-size:14px">Saturday\, September 29\, 2018 11:00am Check In Time: 10:45am</span><br />\n<br />\n<span style="color:rgb(29\, 33\, 41)\; font-family:helvetica\,arial\,sans-serif\; font-size:14px">Entry Fee: $25/two-player team&nbsp\;</span><br />\n<br />\n<span style="color:rgb(29\, 33\, 41)\; font-family:helvetica\,arial\,sans-serif\; font-size:14px">16 Team Maximum\; 3-game guarantee\; First to 21 and win by 2 points (rally scoring). Championship &amp\; 3rd place game will be best of 2/3 games.</span><br />\n<br />\n<span style="color:rgb(29\, 33\, 41)\; font-family:helvetica\,arial\,sans-serif\; font-size:14px">Prizes will be awarded to the top 3 finishers: 1st - 62.5% 2nd - 25% 3rd - 12.5% *IF 16 teams enter\, pay outs will be: 1st - $250 2nd - $100 3rd - $50</span><br />\n<br />\n<span style="color:rgb(29\, 33\, 41)\; font-family:helvetica\,arial\,sans-serif\; font-size:14px">Raffle Prizes to be awarded throughout the tournament (anyone who registers at the COUNTRY Financial Tent will be placed in the raffle drawings for one of 3 $50 gift cards to Frolic Brewing Company\; and one $50 gift card will go to the Best Costume/Outfit Team as voted on by the other teams.</span><br />\n<br />\n<span style="color:rgb(29\, 33\, 41)\; font-family:helvetica\,arial\,sans-serif\; font-size:14px">With each team registration\, each player 21 and over will be provided 2 drink tickets</span><br />\n<br />\n<span style="color:rgb(29\, 33\, 41)\; font-family:helvetica\,arial\,sans-serif\; font-size:14px">Encourage your family\, friends and neighbors to come join the fun! There will be other giveaways during the tournament</span><br />\n<br />\n<span style="color:rgb(29\, 33\, 41)\; font-family:helvetica\,arial\,sans-serif\; font-size:14px">*Once registered\, please email your Team&#39\;s name &amp\; players names to Heather.Schneider@countryfinancial.com</span>
LOCATION:Frolic Brewing Company 12910 Zuni Blvd\, Suite 1300 Westminster\, CO 80234
UID:e.2690.10173
SEQUENCE:3
DTSTAMP:20260420T144429Z
URL:https://www.westminsterchamber.biz/events/details/1st-annual-country-financial-cornhole-tournament-10173
END:VEVENT

END:VCALENDAR
