BEGIN:VCALENDAR
VERSION:2.0
PRODID:-//ChamberMaster//Event Calendar 2.0//EN
METHOD:PUBLISH
X-PUBLISHED-TTL:P3D
REFRESH-INTERVAL:P3D
CALSCALE:GREGORIAN
BEGIN:VEVENT
DTSTART:20190510T143000Z
DTEND:20190510T203000Z
X-MICROSOFT-CDO-ALLDAYEVENT:FALSE
SUMMARY:4th Annual Veteran's Puppy For Life Golf Scramble
DESCRIPTION:For the fourth year\, Veteran's Puppy for Life Organization is hosting a Golf Tournament to raise funds to continue their mission to give veterans living with PTSD an opportunity to have a life again\, one puppy at a time. The event is open to the public and will be held at Walnut Creek Golf Preserve in Westminster. Event funds help provide an 8-week old puppy\, 2 years of veterinarian care support and all PTSD service dog training absolutely FREE to identified veterans in need. This 4-person scramble style event will include a $100\,000 50/50 Hole-In-One Contest\, $1\,000\,000 Shootout for Top 2 Hole-In-One Qualifiers\, and several putting contests. The $125 golfer registration includes Course Play\, Cart\, BBQ\, and a Complimentary Gift Bag. Sponsorship opportunities are also available to help offset event costs for the organization. Five levels\, ranging from $125 to $2500\, are on the ticketing site for businesses interested in supporting the organization during this event.
X-ALT-DESC;FMTTYPE=text/html:For the fourth year\, Veteran&rsquo\;s Puppy for Life Organization is hosting a Golf Tournament to raise funds to continue their mission to give veterans living with PTSD an opportunity to have a life again\, one puppy at a time. The event is open to the public and will be held at Walnut Creek Golf Preserve in Westminster. Event funds help provide an 8-week old puppy\, 2 years of veterinarian care support and all PTSD service dog training absolutely FREE to identified veterans in need. This 4-person scramble style event will include a $100\,000 50/50 Hole-In-One Contest\, $1\,000\,000 Shootout for Top 2 Hole-In-One Qualifiers\, and several putting contests. The $125 golfer registration includes Course Play\, Cart\, BBQ\, and a Complimentary Gift Bag. Sponsorship opportunities are also available to help offset event costs for the organization. Five levels\, ranging from $125 to $2500\, are on the ticketing site for businesses interested in supporting the organization during this event.
LOCATION:Walnut Creek Golf Preserve 10500 Westmoor Drive Westminster CO 80021
UID:e.2690.10900
SEQUENCE:3
DTSTAMP:20260420T025230Z
URL:https://www.westminsterchamber.biz/events/details/4th-annual-veteran-s-puppy-for-life-golf-scramble-10900
END:VEVENT

END:VCALENDAR
