BEGIN:VCALENDAR
VERSION:2.0
PRODID:-//ChamberMaster//Event Calendar 2.0//EN
METHOD:PUBLISH
X-PUBLISHED-TTL:P3D
REFRESH-INTERVAL:P3D
CALSCALE:GREGORIAN
BEGIN:VEVENT
DTSTART;VALUE=DATE:20260424
DTEND;VALUE=DATE:20260427
TRANSP:TRANSPARENT
X-MICROSOFT-CDO-ALLDAYEVENT:TRUE
SUMMARY:90% OFF Plato's Closet CLEARANCE WEEKEND! (Member Event)
DESCRIPTION:3 DAYS ONLY: all red-stamped clearance items will be 90% OFF ticketed price (discounts taken at register...no double discounts). Tees\, tanks\, dresses\, jeans\, jackets\, hoodies\, shoes & more! #ResaleNotRetail #SkipTheMall Follow us on Insta for more info: https://bit.ly/PlatosWesty
X-ALT-DESC;FMTTYPE=text/html:3 DAYS ONLY: all red-stamped clearance items will be 90% OFF ticketed price (discounts taken at register...no double discounts). Tees\, tanks\, dresses\, jeans\, jackets\, hoodies\, shoes &amp\; more! #ResaleNotRetail #SkipTheMall Follow us on Insta for more info: https://bit.ly/PlatosWesty
LOCATION:Plato's Closet Westminster 7355 W 88th Ave (NE corner 88th/Wads)
UID:e.2690.22358
SEQUENCE:3
DTSTAMP:20260420T205001Z
URL:https://www.westminsterchamber.biz/events/details/90-off-plato-s-closet-clearance-weekend-member-event-22358
END:VEVENT

END:VCALENDAR
