BEGIN:VCALENDAR
VERSION:2.0
PRODID:-//ChamberMaster//Event Calendar 2.0//EN
METHOD:PUBLISH
X-PUBLISHED-TTL:P3D
REFRESH-INTERVAL:P3D
CALSCALE:GREGORIAN
BEGIN:VEVENT
DTSTART:20180202T013000Z
DTEND:20180202T033000Z
X-MICROSOFT-CDO-ALLDAYEVENT:FALSE
SUMMARY:A Closer Look at the Current Oil and Gas Issues in Colorado featuring Chris Wright
DESCRIPTION:Please join us February 1st for a community event: A Closer Look at the Current Oil and Gas Issues in Colorado featuring Chris Wright\n\n	\n		\n			\n			Chris Wright\n			\n		\n	\n\n\n\n\n\n	\n		\n			\n			 \n\n			\n			Chis completed an undergraduate degree in Mechanical Engineering at MIT and graduate work in Electrical Engineering at both UC Berkeley and MIT. He has had a lifelong passion for energy and its role in human life. He has spoken on energy to the UK House of Lords\, and States Attorneys General\, Federal and State Judges\, debated the merits of the shale revolution on TV and given over 100 talks.\n\n			 \n\n			Chris also worked on fusion energy\, solar energy and geothermal energy. Chris is a Colorado native with a passion for skiing\, cycling\, climbing\, and the Colorado outdoors.  He serves on the boards of numerous non-profits including PERC\, ACE Colorado\, ACE Montana\, Colorado Acedemy\, PRI\, and the YCCF.
X-ALT-DESC;FMTTYPE=text/html:<div>Please join us February 1st for a community event:&nbsp\;A Closer Look at the Current Oil and Gas Issues in Colorado featuring Chris Wright\n<table border="0" cellpadding="0" cellspacing="0" style="border-collapse:collapse\; table-layout:fixed\; width:100%">\n	<tbody>\n		<tr>\n			<td>\n			<div><span style="font-size:20px"><em><strong>Chris Wright</strong></em></span></div>\n			</td>\n		</tr>\n	</tbody>\n</table>\n</div>\n\n<div>\n<table border="0" cellpadding="0" cellspacing="0" style="border-collapse:collapse\; table-layout:fixed\; width:100%">\n	<tbody>\n		<tr>\n			<td>\n			<div>&nbsp\;</div>\n\n			<div>\n			<div>Chis completed an undergraduate degree in Mechanical Engineering at MIT and graduate work in Electrical Engineering at both UC Berkeley and MIT.&nbsp\;He has had a lifelong passion for energy and its role in human life.&nbsp\;He has spoken on energy to the UK House of Lords\, and States Attorneys General\, Federal and State Judges\, debated the merits of the shale revolution on TV and given over 100 talks.<br />\n			&nbsp\;</div>\n\n			<div>Chris also worked on fusion energy\, solar energy and geothermal energy.&nbsp\;Chris is a Colorado native with a passion for skiing\, cycling\, climbing\, and the Colorado outdoors.&nbsp\;&nbsp\;He serves on the boards of numerous non-profits including PERC\, ACE Colorado\, ACE Montana\, Colorado Acedemy\, PRI\, and the YCCF.</div>\n			</div>\n			</td>\n		</tr>\n	</tbody>\n</table>\n</div>\n
LOCATION:Where? Broomfield Auditorium 3 Community Park Rd Broomfield\, CO 80023
UID:e.2690.6632
SEQUENCE:3
DTSTAMP:20260421T034331Z
URL:https://www.westminsterchamber.biz/events/details/a-closer-look-at-the-current-oil-and-gas-issues-in-colorado-featuring-chris-wright-02-01-2018-6632
END:VEVENT

END:VCALENDAR
