BEGIN:VCALENDAR
VERSION:2.0
PRODID:-//ChamberMaster//Event Calendar 2.0//EN
METHOD:PUBLISH
X-PUBLISHED-TTL:P3D
REFRESH-INTERVAL:P3D
CALSCALE:GREGORIAN
BEGIN:VEVENT
DTSTART:20180111T160000Z
DTEND:20180111T170000Z
X-MICROSOFT-CDO-ALLDAYEVENT:FALSE
SUMMARY:Ambassador Committee Meeting
DESCRIPTION:Our Ambassadors are in the know! Ambassadors are the Westminster Chamber's public relations arm and work in the area of business to business visits\, member engagement and recruitment.  Come get and idea on how they impact our Chamber and what 2017 promises.
X-ALT-DESC;FMTTYPE=text/html:Our Ambassadors are in the know! Ambassadors are the Westminster Chamber&#39\;s public relations arm and work in the area of business to business visits\, member engagement and recruitment. &nbsp\;Come get and idea on how they impact our Chamber and what 2017 promises.
LOCATION:Chamber Office 9191 Sheridan Blvd. Westminster\, CO 80031
UID:e.2690.3516
SEQUENCE:3
DTSTAMP:20260421T052451Z
URL:https://www.westminsterchamber.biz/events/details/ambassador-committee-meeting-01-11-2018-3516
END:VEVENT

END:VCALENDAR
