BEGIN:VCALENDAR
VERSION:2.0
PRODID:-//ChamberMaster//Event Calendar 2.0//EN
METHOD:PUBLISH
X-PUBLISHED-TTL:P3D
REFRESH-INTERVAL:P3D
CALSCALE:GREGORIAN
BEGIN:VEVENT
DTSTART:20180712T150000Z
DTEND:20180712T160000Z
X-MICROSOFT-CDO-ALLDAYEVENT:FALSE
SUMMARY:Ambassador Committee Meeting
DESCRIPTION:Our Ambassadors are in the know! Ambassadors are the Westminster Chamber's public relations arm and work in the area of business to business visits\, member engagement and recrutiment.  Come get and idea on how they impact our Chamber and what 2017 promises.
X-ALT-DESC;FMTTYPE=text/html:Our Ambassadors are in the know! Ambassadors are the Westminster Chamber&#39\;s public relations arm and work in the area of business to business visits\, member engagement and recrutiment. &nbsp\;Come get and idea on how they impact our Chamber and what 2017 promises.
LOCATION:Chamber Office 9191 Sheridan Blvd. Westminster\, CO 80031
UID:e.2690.3522
SEQUENCE:3
DTSTAMP:20260420T184347Z
URL:https://www.westminsterchamber.biz/events/details/ambassador-committee-meeting-07-12-2018-3522
END:VEVENT

END:VCALENDAR
