BEGIN:VCALENDAR
VERSION:2.0
PRODID:-//ChamberMaster//Event Calendar 2.0//EN
METHOD:PUBLISH
X-PUBLISHED-TTL:P3D
REFRESH-INTERVAL:P3D
CALSCALE:GREGORIAN
BEGIN:VEVENT
DTSTART:20190318T230000Z
DTEND:20190319T010000Z
X-MICROSOFT-CDO-ALLDAYEVENT:FALSE
SUMMARY:Are You Prepared for Your Financial Future? Business Networking with a Twist
DESCRIPTION:Want to meet incredible people just like you? Come and join us for some great networking with food and wine with a twist. Please RSVP to Tina Mirzayans @ Tina.Mirzayans@firstcitizens.com no later than March 15th.
X-ALT-DESC;FMTTYPE=text/html:<span style="font-family:calibri\,sans-serif\; font-size:11pt">Want to meet incredible people just like you? Come and join us for some great networking with food and wine with a twist. Please RSVP to Tina Mirzayans @ Tina.Mirzayans@firstcitizens.com no later than March 15th.&nbsp\;</span>
LOCATION:2424 W. 121st Ave Westminster CO 80234
UID:e.2690.10878
SEQUENCE:3
DTSTAMP:20260420T043835Z
URL:https://www.westminsterchamber.biz/events/details/are-you-prepared-for-your-financial-future-business-networking-with-a-twist-10878
END:VEVENT

END:VCALENDAR
