BEGIN:VCALENDAR
VERSION:2.0
PRODID:-//ChamberMaster//Event Calendar 2.0//EN
METHOD:PUBLISH
X-PUBLISHED-TTL:P3D
REFRESH-INTERVAL:P3D
CALSCALE:GREGORIAN
BEGIN:VEVENT
DTSTART:20160716T160000Z
DTEND:20160716T170000Z
X-MICROSOFT-CDO-ALLDAYEVENT:FALSE
SUMMARY:Bike Share Ribbon Cutting Event
DESCRIPTION:Bike Share Ribbon Cutting Event
X-ALT-DESC;FMTTYPE=text/html:Bike Share Ribbon Cutting Event
LOCATION:St. Anthony's North Health Campus 14300 Orchard Parkway Westminster\, Colorado 80023
UID:e.2690.2704
SEQUENCE:3
DTSTAMP:20260422T113904Z
URL:https://www.westminsterchamber.biz/events/details/bike-share-ribbon-cutting-event-07-16-2016-2704
END:VEVENT

END:VCALENDAR
