BEGIN:VCALENDAR
VERSION:2.0
PRODID:-//ChamberMaster//Event Calendar 2.0//EN
METHOD:PUBLISH
X-PUBLISHED-TTL:P3D
REFRESH-INTERVAL:P3D
CALSCALE:GREGORIAN
BEGIN:VEVENT
DTSTART:20180627T120000Z
DTEND:20180627T140000Z
X-MICROSOFT-CDO-ALLDAYEVENT:FALSE
SUMMARY:Bike to Work : Chamber Station
DESCRIPTION:Join us for the annual Bike to Work day challenge. In recognition of the importance of health and wellness - consider biking to work.  Drop by the Chamber Breakfast Station to hydrate\, get motivated\, and energized to keep going. Meet our Young Professionals who are manning the booth.
X-ALT-DESC;FMTTYPE=text/html:Join us for the annual Bike to Work day challenge. In recognition of the importance of health and wellness - consider biking to work.&nbsp\; Drop by the Chamber Breakfast Station to hydrate\, get motivated\, and energized to keep going. Meet our Young Professionals who are manning the booth.
LOCATION:9100 West 100th Avenue Westminster\, CO 80021
UID:e.2690.6812
SEQUENCE:3
DTSTAMP:20260420T202844Z
URL:https://www.westminsterchamber.biz/events/details/bike-to-work-chamber-station-6812
END:VEVENT

END:VCALENDAR
