BEGIN:VCALENDAR
VERSION:2.0
PRODID:-//ChamberMaster//Event Calendar 2.0//EN
METHOD:PUBLISH
X-PUBLISHED-TTL:P3D
REFRESH-INTERVAL:P3D
CALSCALE:GREGORIAN
BEGIN:VEVENT
DTSTART:20191129T150000Z
DTEND:20191201T230000Z
X-MICROSOFT-CDO-ALLDAYEVENT:FALSE
SUMMARY:Black Friday Weekend Sales at Verizon-Cellular Plus
DESCRIPTION:We have EPIC sales going all weekend long at Verizon-Cellular Plus in Westminster!\n\n\n\nGet all of your holiday shopping done Nov 29-Dec 1 and SAVE.\n\nCheck out our exclusive weekend deals and stop by to learn more.\n\n\n\n~ FREE Samsung Tab A 8" Tablet with a new 2-year agreement (after bill incentive credit)\n\n\n\n~ Buy one get one 50% off cases   OtterBox   Speck   UAG   Nimbus9\n\n\n\n~ 50% off Xtreme 10\,000 mAh Wireless Charger Power Bank\n\n\n\n~ Buy one get one 50% off PopSockets\n\n\n\n~ 2 for $50 Braven Mini Bluetooth Speaker (regularly 2 for $79.98)\n\n\n\n~ 30% off ventev chargepad duo\n\n\n\n~ 30% off ventev wireless car charger\n\n\n\n~ 30% off ventev watchdock duo\n\n\n\n~ $19.99 iFrogz Toxix headphones ($10 off - regularly $29.99)\n\n\n\nSee you soon!
X-ALT-DESC;FMTTYPE=text/html:We have EPIC sales going all weekend long at Verizon-Cellular Plus in Westminster!<br />\n<br />\nGet all of your holiday shopping done Nov 29-Dec 1 and SAVE.<br />\nCheck out our exclusive weekend deals and stop by to learn more.<br />\n<br />\n~ FREE Samsung Tab A 8&quot\; Tablet&nbsp\;<span style="font-size:7.5pt">with a new 2-year agreement (after bill incentive credit)</span><br />\n<br />\n~ Buy one get one 50% off cases &ndash\; OtterBox &ndash\; Speck &ndash\; UAG &ndash\; Nimbus9<br />\n<br />\n~ 50% off Xtreme 10\,000 mAh Wireless Charger Power Bank<br />\n<br />\n~ Buy one get one 50% off PopSockets<br />\n<br />\n~ 2 for $50 Braven Mini Bluetooth Speaker&nbsp\;<span style="font-size:7.5pt">(regularly 2 for $79.98)</span><br />\n<br />\n~ 30% off ventev chargepad duo<br />\n<br />\n~ 30% off ventev wireless car charger<br />\n<br />\n~ 30% off ventev watchdock duo<br />\n<br />\n~ $19.99 iFrogz Toxix headphones&nbsp\;<span style="font-size:7.5pt">($10 off - regularly $29.99)</span><br />\n<br />\nSee you soon!
LOCATION:Verizon-Cellular Plus located at 10398 Reed Street\, Unit 300\, Westminster\, CO - off US-36 at Church Ranch Blvd\, next to Jersey Mike's Subs
UID:e.2690.11963
SEQUENCE:3
DTSTAMP:20260421T213320Z
URL:https://www.westminsterchamber.biz/events/details/black-friday-weekend-sales-at-verizon-cellular-plus-11963
END:VEVENT

END:VCALENDAR
