BEGIN:VCALENDAR
VERSION:2.0
PRODID:-//ChamberMaster//Event Calendar 2.0//EN
METHOD:PUBLISH
X-PUBLISHED-TTL:P3D
REFRESH-INTERVAL:P3D
CALSCALE:GREGORIAN
BEGIN:VEVENT
DTSTART:20181125T020000Z
DTEND:20181125T050000Z
X-MICROSOFT-CDO-ALLDAYEVENT:FALSE
SUMMARY:Black & Red Holiday Gala Charity Optimist Charity Event
DESCRIPTION:Join the Purpose Driven Optimist Club in kicking off the Holiday Season for hors d' oeuvres \, drinks\, dancing\, wine tasting and silent auction all while benefiting Packs of Hope and Parr Elementary School.\n\nTime:\n\nE's Just Good Eats\n\nWhere Food and Aviation Collide Rocky Mountain Airport\n\n11705 Airport Way #200\,\n\nBroomfield 80021\n\nThe Purpose Driven Optimist's Black & Red Holiday Gala\n\nTickets $25\n\nAvailable online:\n\nwww.eventbright.com\n\nNon-refundable Must be 21 to attend\n\nLIVE MUSIC BY:\n\nMr. David Booker\n\nWine Tasting\n\nWith\n\nTurquoise Mesa
X-ALT-DESC;FMTTYPE=text/html:Join the Purpose Driven Optimist Club in kicking off the Holiday Season for hors d&rsquo\; oeuvres \, drinks\, dancing\, wine tasting and silent auction all while benefiting Packs of Hope and Parr Elementary School.<br />\nTime:<br />\nE&rsquo\;s Just Good Eats<br />\nWhere Food and Aviation Collide Rocky Mountain Airport<br />\n11705 Airport Way #200\,<br />\nBroomfield 80021<br />\nThe Purpose Driven Optimist&rsquo\;s Black &amp\; Red Holiday Gala<br />\nTickets $25<br />\nAvailable online:<br />\nwww.eventbright.com<br />\nNon-refundable Must be 21 to attend<br />\nLIVE MUSIC BY:<br />\nMr. David Booker<br />\nWine Tasting<br />\nWith<br />\nTurquoise Mesa
LOCATION:Rocky Mountain Airport 11705 Airport Way #200\, Broomfield 80021
UID:e.2690.10203
SEQUENCE:3
DTSTAMP:20260420T111746Z
URL:https://www.westminsterchamber.biz/events/details/black-red-holiday-gala-charity-optimist-charity-event-10203
END:VEVENT

END:VCALENDAR
