BEGIN:VCALENDAR
VERSION:2.0
PRODID:-//ChamberMaster//Event Calendar 2.0//EN
METHOD:PUBLISH
X-PUBLISHED-TTL:P3D
REFRESH-INTERVAL:P3D
CALSCALE:GREGORIAN
BEGIN:VEVENT
DTSTART:20181029T170000Z
DTEND:20181029T190000Z
X-MICROSOFT-CDO-ALLDAYEVENT:FALSE
SUMMARY:Broomfield Heroes of A Precious Child
DESCRIPTION:Join A Precious Child for their Broomfield Heroes Luncheon. This event brings together business leaders\, community members and elected officials as we honor individuals currently making a difference in the lives of children in need\, and will inspire others to learn more about A Precious Child and the vital work we do. This seated luncheon includes an inspirational program and while there is no cost to attend\, this is one of our most significant fundraising events of the year to support our mission and provide for disadvantaged and displaced
X-ALT-DESC;FMTTYPE=text/html:<span style="font-size:12px\;"><span style="font-family:arial\;">Join <em>A Precious Child</em> for their Broomfield Heroes Luncheon. T<span style="text-align: left\; color: rgb(67\, 67\, 65)\; text-transform: none\; line-height: 32.3px\; text-indent: 0px\; letter-spacing: normal\; font-style: normal\; font-variant: normal\; font-weight: 400\; text-decoration: none\; word-spacing: 0px\; display: inline !important\; white-space: normal\; orphans: 2\; float: none\; -webkit-text-stroke-width: 0px\; background-color: transparent\;">his event brings together business leaders\, community members and elected officials as we honor individuals currently making a difference in the lives of children in need\, and will inspire others to learn more about A Precious Child and the vital work we do. This seated luncheon includes an inspirational program and while there is no cost to attend\, this is one of our most significant fundraising events of the year to support our mission and provide for disadvantaged and displaced&hellip\;</span></span></span>
LOCATION:Omni Interlocken Resort 500 Interlocken Blvd. Broomfield\, CO 80021
UID:e.2690.10166
SEQUENCE:3
DTSTAMP:20260420T144451Z
URL:https://www.westminsterchamber.biz/events/details/broomfield-heroes-of-a-precious-child-10166
END:VEVENT

END:VCALENDAR
