BEGIN:VCALENDAR
VERSION:2.0
PRODID:-//ChamberMaster//Event Calendar 2.0//EN
METHOD:PUBLISH
X-PUBLISHED-TTL:P3D
REFRESH-INTERVAL:P3D
CALSCALE:GREGORIAN
BEGIN:VEVENT
DTSTART:20160503T230000Z
DTEND:20160504T010000Z
X-MICROSOFT-CDO-ALLDAYEVENT:FALSE
SUMMARY:Business After Hours
DESCRIPTION:Thank you to The DaVinci Institute for hosting this Business After Hours Event.\n\nBusiness After Hours Events are a great way to meet new business professionals\, build strategic partnerships and grow your business.  Bring your business cards!
X-ALT-DESC;FMTTYPE=text/html:<p>Thank you to The DaVinci Institute for hosting this Business After Hours Event.</p>\n\n<p>Business After Hours Events are a great way to meet new business professionals\, build strategic partnerships and grow your business. &nbsp\;Bring your business cards!</p>\n
LOCATION:The DaVinci Institute 9191 Sheridan Boulevard Suit 300 Westminster\, CO 80021 They are located on the 3rd floor in the Compass Bank Building
UID:e.2690.1506
SEQUENCE:3
DTSTAMP:20260422T151446Z
URL:https://www.westminsterchamber.biz/events/details/business-after-hours-05-03-2016-1506
END:VEVENT

END:VCALENDAR
