BEGIN:VCALENDAR
VERSION:2.0
PRODID:-//ChamberMaster//Event Calendar 2.0//EN
METHOD:PUBLISH
X-PUBLISHED-TTL:P3D
REFRESH-INTERVAL:P3D
CALSCALE:GREGORIAN
BEGIN:VEVENT
DTSTART:20160607T230000Z
DTEND:20160608T010000Z
X-MICROSOFT-CDO-ALLDAYEVENT:FALSE
SUMMARY:Business After Hours
DESCRIPTION:Thank you to Uncle Maddio's Pizza for hosting this Business After Hours Event.\n\nBusiness After Hours Events are a great way to meet new business professionals\, build strategic partnerships and grow your business.  Bring your business cards!
X-ALT-DESC;FMTTYPE=text/html:<p>Thank you to Uncle Maddio&#39\;s Pizza&nbsp\;for hosting this Business After Hours Event.</p>\n\n<p>Business After Hours Events are a great way to meet new business professionals\, build strategic partnerships and grow your business. &nbsp\;Bring your business cards!</p>\n
LOCATION:Uncle Maddio's Pizza 1181 W 120th Avenue #100 Westminster\, CO 80034
UID:e.2690.1509
SEQUENCE:3
DTSTAMP:20260422T132128Z
URL:https://www.westminsterchamber.biz/events/details/business-after-hours-06-07-2016-1509
END:VEVENT

END:VCALENDAR
