BEGIN:VCALENDAR
VERSION:2.0
PRODID:-//ChamberMaster//Event Calendar 2.0//EN
METHOD:PUBLISH
X-PUBLISHED-TTL:P3D
REFRESH-INTERVAL:P3D
CALSCALE:GREGORIAN
BEGIN:VEVENT
DTSTART:20190903T230000Z
DTEND:20190904T010000Z
X-MICROSOFT-CDO-ALLDAYEVENT:FALSE
SUMMARY:Business After Hours
DESCRIPTION:Join us for our monthly after hours event! Hosted by our friends at First Citizens Bank.  Bring a friend and get ready to make some new ones. Food and refreshments provided.
X-ALT-DESC;FMTTYPE=text/html:Join us for our monthly after hours event! Hosted by our friends at First Citizens Bank.&nbsp\; Bring a friend and get ready to make some new ones. Food and refreshments provided.
LOCATION:First Citizens Bank 2424 W. 121st Avenue Westminster\, CO 80234
UID:e.2690.11747
SEQUENCE:3
DTSTAMP:20260421T102001Z
URL:https://www.westminsterchamber.biz/events/details/business-after-hours-11747
END:VEVENT

END:VCALENDAR
