BEGIN:VCALENDAR
VERSION:2.0
PRODID:-//ChamberMaster//Event Calendar 2.0//EN
METHOD:PUBLISH
X-PUBLISHED-TTL:P3D
REFRESH-INTERVAL:P3D
CALSCALE:GREGORIAN
BEGIN:VEVENT
DTSTART:20161207T000000Z
DTEND:20161207T020000Z
X-MICROSOFT-CDO-ALLDAYEVENT:FALSE
SUMMARY:Business After Hours at Chuze Fitness
DESCRIPTION:Thank you to Chuze Fitness for hosting this Business After Hours Event!  Chuze is also offering complimentary workouts for all event participants.\n\n\n\n\n\nBusiness After Hours Events are a great way to meet new business professionals\, build strategic partnerships and grow your business.  Bring your business cards!
X-ALT-DESC;FMTTYPE=text/html:Thank you to Chuze&nbsp\;Fitness&nbsp\;for hosting this Business After Hours Event!&nbsp\; Chuze is also offering complimentary workouts for all event participants.<br />\n<br />\n<br />\nBusiness After Hours Events are a great way to meet new business professionals\, build strategic partnerships and grow your business. &nbsp\;Bring your business cards!
LOCATION:Chuze Fitness 8601 N. Sheridan Blvd. Westminster\, CO\, 80003
UID:e.2690.2743
SEQUENCE:3
DTSTAMP:20260422T032631Z
URL:https://www.westminsterchamber.biz/events/details/business-after-hours-at-chuze-fitness-2743
END:VEVENT

END:VCALENDAR
