BEGIN:VCALENDAR
VERSION:2.0
PRODID:-//ChamberMaster//Event Calendar 2.0//EN
METHOD:PUBLISH
X-PUBLISHED-TTL:P3D
REFRESH-INTERVAL:P3D
CALSCALE:GREGORIAN
BEGIN:VEVENT
DTSTART:20160802T230000Z
DTEND:20160803T010000Z
X-MICROSOFT-CDO-ALLDAYEVENT:FALSE
SUMMARY:Business After Hours at Lake Arbor Automotive
DESCRIPTION:Thank you to Lake Arbor Automotive & Truck for hosting this Business After Hours Event.\n\nBusiness After Hours Events are a great way to meet new business professionals\, build strategic partnerships and grow your business.  Bring your business cards!
X-ALT-DESC;FMTTYPE=text/html:<p>Thank you to Lake Arbor Automotive &amp\; Truck&nbsp\;for hosting this Business After Hours Event.</p>\n\n<p>Business After Hours Events are a great way to meet new business professionals\, build strategic partnerships and grow your business. &nbsp\;Bring your business cards!</p>\n
LOCATION:Lake Arbor Automotive & Truck 9146 Marshall Place Westminster\, CO 80031
UID:e.2690.1510
SEQUENCE:3
DTSTAMP:20260422T100010Z
URL:https://www.westminsterchamber.biz/events/details/business-after-hours-at-lake-arbor-automotive-08-02-2016-1510
END:VEVENT

END:VCALENDAR
