BEGIN:VCALENDAR
VERSION:2.0
PRODID:-//ChamberMaster//Event Calendar 2.0//EN
METHOD:PUBLISH
X-PUBLISHED-TTL:P3D
REFRESH-INTERVAL:P3D
CALSCALE:GREGORIAN
BEGIN:VEVENT
DTSTART:20170208T000000Z
DTEND:20170208T020000Z
X-MICROSOFT-CDO-ALLDAYEVENT:FALSE
SUMMARY:Business After Hours at The Egg & I at 80th & Sheridan
DESCRIPTION:2 EVENTS IN 1\n\nThis isn't your typical Business After Hours event!  At this event you will be able to meet our new Chamber President\, Juliet Abdel!  Juliet is super excited to meet you\, so please\, make it a point to be there.\n\n\n\nThank you to The Egg & I for hosting this Business After Hours Event! \n\n\n\nBusiness After Hours Events are a great way to meet new business professionals\, build strategic partnerships and grow your business.  Bring your business cards!
X-ALT-DESC;FMTTYPE=text/html:2 EVENTS IN 1<br />\nThis isn&#39\;t your typical Business After Hours event! &nbsp\;At this event you will be able to meet our new Chamber President\, Juliet Abdel! &nbsp\;Juliet is super excited to meet you\, so please\, make it a point to be there.<br />\n<br />\nThank you to The Egg &amp\; I for hosting this Business After Hours Event!&nbsp\;<br />\n<br />\nBusiness After Hours Events are a great way to meet new business professionals\, build strategic partnerships and grow your business. &nbsp\;Bring your business cards!
LOCATION:The Egg & I Restaurant 8025 Sheridan Blvd. Westminster\, CO\, 80003
UID:e.2690.3167
SEQUENCE:3
DTSTAMP:20260422T013515Z
URL:https://www.westminsterchamber.biz/events/details/business-after-hours-at-the-egg-i-at-80th-sheridan-3167
END:VEVENT

END:VCALENDAR
