BEGIN:VCALENDAR
VERSION:2.0
PRODID:-//ChamberMaster//Event Calendar 2.0//EN
METHOD:PUBLISH
X-PUBLISHED-TTL:P3D
REFRESH-INTERVAL:P3D
CALSCALE:GREGORIAN
BEGIN:VEVENT
DTSTART:20160712T230000Z
DTEND:20160713T010000Z
X-MICROSOFT-CDO-ALLDAYEVENT:FALSE
SUMMARY:Business After Hours at Ziggie's Coffee!
DESCRIPTION:Thank you to Ziggie's Coffee for hosting this month's Business After Hours!  Please be sure to RSVP for this event so we can let the great people at Ziggie's know how many to expect.  Thank you!\n\n\n\nBusiness After Hours Events are a great way to meet new business professionals\, build strategic partnerships and grow your business.... and have fun doing it!  Bring your business cards!
X-ALT-DESC;FMTTYPE=text/html:<span style="font-size:12px\;"><span style="color: rgb(68\, 68\, 68)\; font-family: Arial\, Helvetica\, sans-serif\; line-height: 20.8px\;">Thank you to Ziggie&#39\;s Coffee for hosting this month&#39\;s Business After Hours! &nbsp\;Please be sure to RSVP for this event so we can let the great people at Ziggie&#39\;s know how many to expect. &nbsp\;Thank you!<br />\n<br />\nBusiness After Hours Events are a great way to meet new business professionals\, build strategic partnerships and grow your business.... and have fun doing it! &nbsp\;Bring your business cards!</span></span>
LOCATION:Ziggi's Coffee 3013 West 104th Avenue Westminster\, CO 80031 (720) 465-8654
UID:e.2690.2705
SEQUENCE:3
DTSTAMP:20260422T114040Z
URL:https://www.westminsterchamber.biz/events/details/business-after-hours-at-ziggie-s-coffee-07-12-2016-2705
END:VEVENT

END:VCALENDAR
