BEGIN:VCALENDAR
VERSION:2.0
PRODID:-//ChamberMaster//Event Calendar 2.0//EN
METHOD:PUBLISH
X-PUBLISHED-TTL:P3D
REFRESH-INTERVAL:P3D
CALSCALE:GREGORIAN
BEGIN:VEVENT
DTSTART:20171108T000000Z
DTEND:20171108T020000Z
X-MICROSOFT-CDO-ALLDAYEVENT:FALSE
SUMMARY:Business After Hours - Church Ranch Event Center
DESCRIPTION:Join us for our monthly Business After Hours for a chance to network with our business professionals. Held at the Church Ranch Event Center\, attendees enjoy an evening with food\, door prizes\, refreshments and fun. This evenings food menu includes: \n\n\n\nStationed: Bacon Wrapped Dates\n\nStationed: Fresh Fruit with Chocolate Hazelnut Dip\n\nStationed: Warm Artichoke Dip with fancy crackers\n\nPassed: Rosemary Crostini with sliced beef tenderloin\, bleu cheese\, port shallot demi glaze and chive garnish
X-ALT-DESC;FMTTYPE=text/html:<span style="color:#000000\;"><span style="font-family:arial\;">Join us for our monthly Business After Hours for a chance to network with our business professionals. Held at the Church Ranch Event Center\, attendees enjoy an evening with food\, door prizes\, refreshments and fun. This evenings food menu includes:&nbsp\;<br />\n<br />\nStationed: Bacon Wrapped Dates</span></span><span style="font-family: Calibri\, sans-serif\;"><o:p></o:p></span><br />\n<span style="color:#000000\;"><span style="font-family:arial\;">Stationed: Fresh Fruit with Chocolate Hazelnut Dip</span></span><span style="font-family: Calibri\, sans-serif\;"><o:p></o:p></span><br />\n<span style="color:#000000\;"><span style="font-family:arial\;">Stationed: Warm Artichoke Dip with fancy crackers</span></span><span style="font-family: Calibri\, sans-serif\;"><o:p></o:p></span><br />\n<span style="color:#000000\;"><span style="font-family:arial\;">Passed: Rosemary Crostini with sliced beef tenderloin\, bleu cheese\,&nbsp\;port shallot demi glaze and&nbsp\;chive garnish</span></span><span style="font-family: Calibri\, sans-serif\;"><o:p></o:p></span>
LOCATION:Church Ranch Event Center 10200 Wadsworth Blvd Westminster\, CO
UID:e.2690.5592
SEQUENCE:3
DTSTAMP:20260421T103826Z
URL:https://www.westminsterchamber.biz/events/details/business-after-hours-church-ranch-event-center-5592
END:VEVENT

END:VCALENDAR
