BEGIN:VCALENDAR
VERSION:2.0
PRODID:-//ChamberMaster//Event Calendar 2.0//EN
METHOD:PUBLISH
X-PUBLISHED-TTL:P3D
REFRESH-INTERVAL:P3D
CALSCALE:GREGORIAN
BEGIN:VEVENT
DTSTART:20170808T230000Z
DTEND:20170809T010000Z
X-MICROSOFT-CDO-ALLDAYEVENT:FALSE
SUMMARY:Business After Hours - Colorado Classic Exteriors
DESCRIPTION:Join us for our monthly After Hours. Hosted by our friends at Colorado Classic Exteriors. Mingle with peers and connect over light appetizers\, and refreshments.
X-ALT-DESC;FMTTYPE=text/html:Join us for our monthly After Hours. Hosted by our friends at Colorado Classic Exteriors. Mingle with peers and connect over light appetizers\, and refreshments.&nbsp\;
LOCATION:Colorado Classic Exteriors (Windows) 7985 Vance Street Drive\, Suite 202 Arvada\, CO 80003
UID:e.2690.5411
SEQUENCE:3
DTSTAMP:20260421T134755Z
URL:https://www.westminsterchamber.biz/events/details/business-after-hours-colorado-classic-exteriors-5411
END:VEVENT

END:VCALENDAR
