BEGIN:VCALENDAR
VERSION:2.0
PRODID:-//ChamberMaster//Event Calendar 2.0//EN
METHOD:PUBLISH
X-PUBLISHED-TTL:P3D
REFRESH-INTERVAL:P3D
CALSCALE:GREGORIAN
BEGIN:VEVENT
DTSTART:20190604T230000Z
DTEND:20190605T010000Z
X-MICROSOFT-CDO-ALLDAYEVENT:FALSE
SUMMARY:Business After Hours - Custom Flag Company
DESCRIPTION:Join us for our monthly networking event with our friends at Custom Flag Company!
X-ALT-DESC;FMTTYPE=text/html:Join us for our monthly networking event with our friends at Custom Flag Company!
LOCATION:Custom Flag Company 3995 W 73rd Ave. Westminster\, CO 80030
UID:e.2690.10917
SEQUENCE:3
DTSTAMP:20260419T232334Z
URL:https://www.westminsterchamber.biz/events/details/business-after-hours-custom-flag-company-10917
END:VEVENT

END:VCALENDAR
