BEGIN:VCALENDAR
VERSION:2.0
PRODID:-//ChamberMaster//Event Calendar 2.0//EN
METHOD:PUBLISH
X-PUBLISHED-TTL:P3D
REFRESH-INTERVAL:P3D
CALSCALE:GREGORIAN
BEGIN:VEVENT
DTSTART:20180703T230000Z
DTEND:20180704T010000Z
X-MICROSOFT-CDO-ALLDAYEVENT:FALSE
SUMMARY:Business After Hours - Local Foods Market
DESCRIPTION:Join us for our monthly After Hours with our friends at Local Foods Market!
X-ALT-DESC;FMTTYPE=text/html:Join us for our monthly After Hours with our friends at Local Foods Market!&nbsp\;
LOCATION:Local Foods Market 72nd and Sheridan Westminster\, CO
UID:e.2690.6800
SEQUENCE:3
DTSTAMP:20260420T183544Z
URL:https://www.westminsterchamber.biz/events/details/business-after-hours-local-foods-market-6800
END:VEVENT

END:VCALENDAR
