BEGIN:VCALENDAR
VERSION:2.0
PRODID:-//ChamberMaster//Event Calendar 2.0//EN
METHOD:PUBLISH
X-PUBLISHED-TTL:P3D
REFRESH-INTERVAL:P3D
CALSCALE:GREGORIAN
BEGIN:VEVENT
DTSTART:20190702T230000Z
DTEND:20190703T010000Z
X-MICROSOFT-CDO-ALLDAYEVENT:FALSE
SUMMARY:Business After Hours - U.S. Bank
DESCRIPTION:We are excited for our July - 4th of July themed  After Hours event. If you are interested in connecting with businesses in and around our area\, this is the event to be at.  Catered by GQue BBQ\, Libations by Kokopelli Beer Company! Bring your lucky hat as we will be drawing for Rockies Tickets and tickets to the Arvada Center for the arts concert.
X-ALT-DESC;FMTTYPE=text/html:We are excited for our July - 4th of July themed&nbsp\; After Hours event. If you are interested in connecting with businesses in and around our area\, this is the event to be at.&nbsp\; Catered by GQue BBQ\, Libations by Kokopelli Beer Company! Bring your lucky hat as we will be drawing for Rockies Tickets and tickets to the Arvada Center for the arts concert.
LOCATION:US Bank Westminster Corner of 120th and Huron 801 W 120th Westminster CO
UID:e.2690.11459
SEQUENCE:3
DTSTAMP:20260420T024247Z
URL:https://www.westminsterchamber.biz/events/details/business-after-hours-u-s-bank-11459
END:VEVENT

END:VCALENDAR
