BEGIN:VCALENDAR
VERSION:2.0
PRODID:-//ChamberMaster//Event Calendar 2.0//EN
METHOD:PUBLISH
X-PUBLISHED-TTL:P3D
REFRESH-INTERVAL:P3D
CALSCALE:GREGORIAN
BEGIN:VEVENT
DTSTART:20161020T130000Z
DTEND:20161020T190000Z
X-MICROSOFT-CDO-ALLDAYEVENT:FALSE
SUMMARY:CASA Kaleidoscope of Hope
DESCRIPTION:Join CASA of Adams and Broomfield Counties for a one-hour program to learn about the organization and how they (and you) can impact the lives of children in our community.  Please RSVP on casa17th.org by Friday\, October 7th
X-ALT-DESC;FMTTYPE=text/html:Join CASA of Adams and Broomfield Counties for a one-hour program to learn about the organization and how they (and you) can impact the lives of children in our community.&nbsp\; Please RSVP on casa17th.org&nbsp\;by Friday\, October 7th
LOCATION:Stonebrook Manor 650 East 124th Avenue\, Thornton\, CO\, 80241
UID:e.2690.2737
SEQUENCE:3
DTSTAMP:20260422T065954Z
URL:https://www.westminsterchamber.biz/events/details/casa-kaleidoscope-of-hope-2737
END:VEVENT

END:VCALENDAR
