BEGIN:VCALENDAR
VERSION:2.0
PRODID:-//ChamberMaster//Event Calendar 2.0//EN
METHOD:PUBLISH
X-PUBLISHED-TTL:P3D
REFRESH-INTERVAL:P3D
CALSCALE:GREGORIAN
BEGIN:VEVENT
DTSTART:20181114T230000Z
DTEND:20181115T010000Z
X-MICROSOFT-CDO-ALLDAYEVENT:FALSE
SUMMARY:Clinica Colorado Grand Reopening Celebration
DESCRIPTION:Join us as we celebrate our grant reopening in our new location! We have expanded our primary care clinic to better serve the community. Our mission is to provide low cost health care for those who are indigient\, without health insurance or unable to obtain primary care services. Come meet the staff and see how we have grown!\n\n\n\nPlease RSVP through Eventbrite at::\n \n\nhttps://www.eventbrite.com/e/clinica-colorado-grand-reopening-celebration-tickets-51348774567\n\n\nThank you!
X-ALT-DESC;FMTTYPE=text/html:Join us as we celebrate our grant reopening in our new location! We have expanded our primary care clinic to better serve the community. Our mission is to provide low cost health care for those who are indigient\, without health insurance or unable to obtain primary care services. Come meet the staff and see how we have grown!<br />\n<br />\nPlease RSVP through Eventbrite at::\n<div>&nbsp\;</div>\n\n<div><a href="https://www.eventbrite.com/e/clinica-colorado-grand-reopening-celebration-tickets-51348774567" style="color: rgb(17\, 85\, 204)\;">https://www.eventbrite.com/e/clinica-colorado-grand-reopening-celebration-tickets-51348774567</a></div>\n<br />\nThank you!
LOCATION:Clinica Colorado Range Vista Professional Building 8300 Alcott St.\, Suite 300 Westminster\, CO 80031
UID:e.2690.10202
SEQUENCE:3
DTSTAMP:20260420T111555Z
URL:https://www.westminsterchamber.biz/events/details/clinica-colorado-grand-reopening-celebration-10202
END:VEVENT

END:VCALENDAR
