BEGIN:VCALENDAR
VERSION:2.0
PRODID:-//ChamberMaster//Event Calendar 2.0//EN
METHOD:PUBLISH
X-PUBLISHED-TTL:P3D
REFRESH-INTERVAL:P3D
CALSCALE:GREGORIAN
BEGIN:VEVENT
DTSTART:20190208T020000Z
DTEND:20190208T040000Z
X-MICROSOFT-CDO-ALLDAYEVENT:FALSE
SUMMARY:Death of a Gangster
DESCRIPTION:The experts in Mystery Entertainment are now performing live public and private interactive murder mystery dinner shows in Westminster and surrounding areas throughout California. Join us for a night of intrigue\, deception\, and delicious food in this comedic thriller!
X-ALT-DESC;FMTTYPE=text/html:The experts in Mystery Entertainment are now performing live public and private interactive murder mystery dinner shows in Westminster and surrounding areas throughout California. Join us for a night of intrigue\, deception\, and delicious food in this comedic thriller!
LOCATION:The Old Spaghetti Factory 9145 Sheridan Blvd\, Westminster\, CO 80031
UID:e.2690.10222
SEQUENCE:3
DTSTAMP:20260420T074736Z
URL:https://www.westminsterchamber.biz/events/details/death-of-a-gangster-10222
END:VEVENT

END:VCALENDAR
