BEGIN:VCALENDAR
VERSION:2.0
PRODID:-//ChamberMaster//Event Calendar 2.0//EN
METHOD:PUBLISH
X-PUBLISHED-TTL:P3D
REFRESH-INTERVAL:P3D
CALSCALE:GREGORIAN
BEGIN:VEVENT
DTSTART:20190713T133000Z
DTEND:20190713T233000Z
X-MICROSOFT-CDO-ALLDAYEVENT:FALSE
SUMMARY:Disc Golf Tournament
DESCRIPTION:Join us at Prickly Pines Disc Golf Course to play or cheer on players as they tackle the challenging Disc Golf Tournaments.\n\n2nd installment of the Muscles for Romito Charity Tournament. This year it will be held at Prickly Pines DGC in Elizabeth Colorado and will also be a NEXTGEN TOUR STOP!!\n\nFor information regarding registration and divisions please visit our registration page - https://www.discgolfscene.com/tournaments/Muscles_for_Romito_2019
X-ALT-DESC;FMTTYPE=text/html:<p style="color: rgb(68\, 68\, 68)\; font-family: &amp\;quot\;Open Sans&amp\;quot\;\; font-size: 14px\; font-style: normal\; font-variant: normal\; font-weight: 400\; letter-spacing: normal\; margin-bottom: 20px\; margin-left: 0px\; margin-right: 0px\; margin-top: 20px\; orphans: 2\; text-align: left\; text-decoration: none\; text-indent: 0px\; text-transform: none\; -webkit-text-stroke-width: 0px\; white-space: normal\; word-spacing: 0px\;">Join us at <a href="https://www.discgolfscene.com/courses/Prickly_Pines_Disc_Golf_Course" rel="noopener" style="background-attachment: scroll\; background-clip: border-box\; background-color: transparent\; background-image: none\; background-origin: padding-box\; background-position-x: 0%\; background-position-y: 0%\; background-repeat: repeat\; background-size: auto\; color: rgb(157\, 14\, 12)\; cursor: pointer\; text-decoration: none\;" target="_blank" title="Location information for Prickly Pines Disc Golf Course">Prickly Pines Disc Golf Course</a> to play or cheer on players as they tackle the challenging Disc Golf Tournaments.</p>\n\n<p style="color: rgb(68\, 68\, 68)\; font-family: &amp\;quot\;Open Sans&amp\;quot\;\; font-size: 14px\; font-style: normal\; font-variant: normal\; font-weight: 400\; letter-spacing: normal\; margin-bottom: 20px\; margin-left: 0px\; margin-right: 0px\; margin-top: 20px\; orphans: 2\; text-align: left\; text-decoration: none\; text-indent: 0px\; text-transform: none\; -webkit-text-stroke-width: 0px\; white-space: normal\; word-spacing: 0px\;">2nd installment of the Muscles for Romito Charity Tournament. This year it will be held at <a href="https://goo.gl/maps/aWhj8hoUmCfy8dnR9" rel="noopener" style="background-attachment: scroll\; background-clip: border-box\; background-color: transparent\; background-image: none\; background-origin: padding-box\; background-position-x: 0%\; background-position-y: 0%\; background-repeat: repeat\; background-size: auto\; color: rgb(157\, 14\, 12)\; cursor: pointer\; text-decoration: none\;" target="_blank">Prickly Pines DGC</a> in Elizabeth Colorado and will also be a NEXTGEN TOUR STOP!!</p>\n\n<p style="color: rgb(68\, 68\, 68)\; font-family: &amp\;quot\;Open Sans&amp\;quot\;\; font-size: 14px\; font-style: normal\; font-variant: normal\; font-weight: 400\; letter-spacing: normal\; margin-bottom: 20px\; margin-left: 0px\; margin-right: 0px\; margin-top: 20px\; orphans: 2\; text-align: left\; text-decoration: none\; text-indent: 0px\; text-transform: none\; -webkit-text-stroke-width: 0px\; white-space: normal\; word-spacing: 0px\;">For information regarding registration and divisions please visit our registration page - <a href="https://www.discgolfscene.com/tournaments/Muscles_for_Romito_2019" style="background-attachment: scroll\; background-clip: border-box\; background-color: transparent\; background-image: none\; background-origin: padding-box\; background-position-x: 0%\; background-position-y: 0%\; background-repeat: repeat\; background-size: auto\; color: rgb(157\, 14\, 12)\; cursor: pointer\; text-decoration: none\;">https://www.discgolfscene.com/tournaments/Muscles_for_Romito_2019</a></p>\n
LOCATION:Prickly Pines Disc Golf Course Elizabeth\, Colorado
UID:e.2690.11456
SEQUENCE:3
DTSTAMP:20260420T023920Z
URL:https://www.westminsterchamber.biz/events/details/disc-golf-tournament-11456
END:VEVENT

END:VCALENDAR
