BEGIN:VCALENDAR
VERSION:2.0
PRODID:-//ChamberMaster//Event Calendar 2.0//EN
METHOD:PUBLISH
X-PUBLISHED-TTL:P3D
REFRESH-INTERVAL:P3D
CALSCALE:GREGORIAN
BEGIN:VEVENT
DTSTART;VALUE=DATE:20260301
DTEND;VALUE=DATE:20260318
TRANSP:TRANSPARENT
X-MICROSOFT-CDO-ALLDAYEVENT:TRUE
SUMMARY:Downtown Westminster St. Patrick's Takeover
DESCRIPTION:Downtown Westminster St. Patrick's Day Takeover  \n\n\n\nMarch 1 17\n\n\n\nCelebrate St. Patrick's Day with a festive stroll through Downtown Westminster!\n\n\n\nFrom March 1 17\, Downtown businesses will be decked out in St. Paddy's d cor   explore\, shop\, dine\, and see who brings the most Irish spirit to Westy. Whether you're hunting for festive finds\, supporting local\, or just soaking in the green vibes\, there's something to discover all month long.\n\n\n\n  What to Expect:\n\n\n\n  Festively decorated storefronts throughout Downtown\n\n  St. Patrick's Day Selfie Installation at Central Square Plaza\n\n  Social Media Contest for a Downtown Westminster Pot of Gold\n\n(Details coming soon   follow @downtownwestminsterba to participate!)\n\n  Roving Bag Piper on March 17 from 4:30 PM   6:30 PM\n\n  St. Patrick's Day Art Drop on March 17   art courtesy of The Fuse Box. Pieces will be hidden in plain sight throughout Downtown  finders keepers!\n\n  Themed window clings bringing extra Irish cheer to vacant storefronts\n\n\n\nMake it a date night\, bring the family\, or gather your friends   and don't forget to wear your green!\n\n\n\nSupport local. Celebrate community. Find your pot of gold in Downtown Westminster.
X-ALT-DESC;FMTTYPE=text/html:&#127808\; Downtown Westminster St. Patrick&rsquo\;s Day Takeover &#127808\;<br />\n<br />\nMarch 1&ndash\;17<br />\n<br />\nCelebrate St. Patrick&rsquo\;s Day with a festive stroll through Downtown Westminster!<br />\n<br />\nFrom March 1&ndash\;17\, Downtown businesses will be decked out in St. Paddy&rsquo\;s d&eacute\;cor &mdash\; explore\, shop\, dine\, and see who brings the most Irish spirit to Westy. Whether you&#39\;re hunting for festive finds\, supporting local\, or just soaking in the green vibes\, there&rsquo\;s something to discover all month long.<br />\n<br />\n&#10024\; What to Expect:<br />\n<br />\n&#127808\; Festively decorated storefronts throughout Downtown<br />\n&#128248\; St. Patrick&rsquo\;s Day Selfie Installation at Central Square Plaza<br />\n&#127873\; Social Media Contest for a Downtown Westminster Pot of Gold<br />\n(Details coming soon &mdash\; follow @downtownwestminsterba to participate!)<br />\n&#127926\; Roving Bag Piper on March 17 from 4:30 PM &ndash\; 6:30 PM<br />\n&#127912\; St. Patrick&rsquo\;s Day Art Drop on March 17 &mdash\; art courtesy of The Fuse Box. Pieces will be hidden in plain sight throughout Downtown&hellip\; finders keepers!<br />\n&#129695\; Themed window clings bringing extra Irish cheer to vacant storefronts<br />\n<br />\nMake it a date night\, bring the family\, or gather your friends &mdash\; and don&rsquo\;t forget to wear your green!<br />\n<br />\nSupport local. Celebrate community. Find your pot of gold in Downtown Westminster. &#127752\;&#127808\;
LOCATION:Downtown Westminster
UID:e.2690.22304
SEQUENCE:3
DTSTAMP:20260421T083341Z
URL:https://www.westminsterchamber.biz/events/details/downtown-westminster-st-patrick-s-takeover-22304
END:VEVENT

END:VCALENDAR
