BEGIN:VCALENDAR
VERSION:2.0
PRODID:-//ChamberMaster//Event Calendar 2.0//EN
METHOD:PUBLISH
X-PUBLISHED-TTL:P3D
REFRESH-INTERVAL:P3D
CALSCALE:GREGORIAN
BEGIN:VEVENT
DTSTART:20190310T200000Z
DTEND:20190310T220000Z
X-MICROSOFT-CDO-ALLDAYEVENT:FALSE
SUMMARY:DU Gymnastics vs. Nebraska\, Arizona State & Pittsburgh
DESCRIPTION:
X-ALT-DESC;FMTTYPE=text/html:
LOCATION:
UID:e.2690.10519
SEQUENCE:3
DTSTAMP:20260420T043359Z
URL:https://www.westminsterchamber.biz/events/details/du-gymnastics-vs-nebraska-arizona-state-pittsburgh-10519
END:VEVENT

END:VCALENDAR
