BEGIN:VCALENDAR
VERSION:2.0
PRODID:-//ChamberMaster//Event Calendar 2.0//EN
METHOD:PUBLISH
X-PUBLISHED-TTL:P3D
REFRESH-INTERVAL:P3D
CALSCALE:GREGORIAN
BEGIN:VEVENT
DTSTART:20170818T220000Z
DTEND:20170818T230000Z
X-MICROSOFT-CDO-ALLDAYEVENT:FALSE
SUMMARY:CANCELLED - Business Groups & Employers: Information about Solutions for Health Care - Direct Primary Care and Patient Centered Medical Home
DESCRIPTION:Please join Colorado Primary Care Collaborative and Colorado Academy of Family Physicians (CAFP)  in hosting an event for local or community employer groups and businesses to learn about Direct Primary Care\, the Patient-Centered Medical Home\, and why your business could consider offering your employees Direct Primary Care as an employee health insurance benefit option. This option aims to improve employee satisfaction in health care services\, improve productivity at work\, and decrease the cost for your business and employee when receiving care.\n\n\n\nThe event is meant to create awareness\, advocacy\, and provide information to local businesses. Join Dr. R. Scott Hammond\, MD\, FAAFP\, Westminster Medical Clinic family physician\, owner\, & medical director\, and Co-Chair of the Colorado Primary Care Collaborative about Direct Primary Care in this Speaker's Bureau event.. \n\n\n\nhttps://www.coloradoafp.org/advocacy/colorado-primary-care-collaborative/\n\n_____________________________________\nVision \n\nPatient-centered comprehensive and coordinated primary care services sustained through practice transformation and payment reform resulting in improved health for individuals and communities.\n\nMission\n\nThe Colorado Primary Care Collaborative (CPCC) is dedicated to advancing primary care via the patient-centered medical home (PCMH) and other value-based primary care models by focusing on delivery reform\, payment reform\, patient engagement\, workforce training\, and benefit redesign.\n\nValues\n\n\n	Partnerships: The CPCC partners with the national PCPCC and establishes partnerships with providers and consumers of health care.\n	Advocacy: The CPCC achieves its local mission by advocating for and promoting primary care through support of the PCMH model\, payment reform\, and practice transformation to patients\, businesses\, health plans\, and governments.\n	Quality health care: The CPCC values health care that is accessible\, cost-effective\, and demonstrates quality outcomes consistent with Triple Aims: cost effective\, patient experience\, and quality.\n	Patient engagement: The CPCC champions the involvement of patients and families in their health care.\n\n\nActivities\n\n\n	To achieve our mission\, we work in partnership with our members and fellow primary care advocates to promote the vision of the CPCC to patients\, purchasers\, businesses\, health plans and government by:\n	Disseminating results and outcomes from medical home initiatives and clearly communicating their impact on patient experience\, quality of care\, population health and health care costs.\n	Advocating for public policy that advances and builds support for primary care and the medical home\, including payment reform\, patient engagement\, employer benefit initiatives\, and training the primary care workforce.\n	Convening health care experts\, thought leaders\, and consumers to promote learning\, awareness\, and innovation of comprehensive and coordinated primary care services and the medical home model.
X-ALT-DESC;FMTTYPE=text/html:Please join Colorado Primary Care Collaborative and Colorado Academy of Family Physicians (CAFP)&nbsp\;&nbsp\;in hosting an event for local or community employer groups and businesses to learn about Direct Primary Care\, the Patient-Centered Medical Home\, and why your business could consider offering your employees Direct Primary Care as an employee health insurance benefit option. This option aims to improve employee satisfaction in health care services\, improve productivity at work\, and decrease the cost for your business and employee when receiving care.<br />\n<br />\nThe event is meant to create awareness\, advocacy\, and provide information to local businesses. Join Dr. R. Scott Hammond\, MD\, FAAFP\, Westminster Medical Clinic family physician\, owner\, &amp\; medical director\, and Co-Chair of the Colorado Primary Care Collaborative about Direct Primary Care in this Speaker&#39\;s Bureau event..&nbsp\;<br />\n<br />\n<a href="https://www.coloradoafp.org/advocacy/colorado-primary-care-collaborative/">https://www.coloradoafp.org/advocacy/colorado-primary-care-collaborative/</a><br />\n_____________________________________\n<p><strong>Vision&nbsp\;</strong></p>\n\n<p>Patient-centered comprehensive and coordinated primary care services sustained through practice transformation and payment reform resulting in improved health for individuals and communities.</p>\n\n<p><strong>Mission</strong></p>\n\n<p>The Colorado Primary Care Collaborative (CPCC) is dedicated to advancing primary care via the patient-centered medical home (PCMH) and other value-based primary care models by focusing on delivery reform\, payment reform\, patient engagement\, workforce training\, and benefit redesign.</p>\n\n<p><strong>Values</strong></p>\n\n<ul>\n	<li>Partnerships: The CPCC partners with the national PCPCC and establishes partnerships with providers and consumers of health care.</li>\n	<li>Advocacy: The CPCC achieves its local mission by advocating for and promoting primary care through support of the PCMH model\, payment reform\, and practice transformation to patients\, businesses\, health plans\, and governments.</li>\n	<li>Quality health care: The CPCC values health care that is accessible\, cost-effective\, and demonstrates quality outcomes consistent with Triple Aims: cost effective\, patient experience\, and quality.</li>\n	<li>Patient engagement: The CPCC champions the involvement of patients and families in their health care.</li>\n</ul>\n\n<p><strong>Activities</strong></p>\n\n<ul>\n	<li>To achieve our mission\, we work in partnership with our members and fellow primary care advocates to promote the vision of the CPCC to patients\, purchasers\, businesses\, health plans and government by:</li>\n	<li>Disseminating results and outcomes from medical home initiatives and clearly communicating their impact on patient experience\, quality of care\, population health and health care costs.</li>\n	<li>Advocating for public policy that advances and builds support for primary care and the medical home\, including payment reform\, patient engagement\, employer benefit initiatives\, and training the primary care workforce.</li>\n	<li>Convening health care experts\, thought leaders\, and consumers to promote learning\, awareness\, and innovation of comprehensive and coordinated primary care services and the medical home model.</li>\n</ul>\n
LOCATION:Westminster Medical Clinic 8601 Turnpike Drive\, #200 Westminster\, CO 80031 (Depending upon RSVPs\, may change location to a larger space.)
UID:e.2690.5428
SEQUENCE:3
DTSTAMP:20260421T135004Z
URL:https://www.westminsterchamber.biz/events/details/employers-businesses-information-about-direct-primary-care-a-speaker-s-bureau-5428
END:VEVENT

END:VCALENDAR
