BEGIN:VCALENDAR
VERSION:2.0
PRODID:-//ChamberMaster//Event Calendar 2.0//EN
METHOD:PUBLISH
X-PUBLISHED-TTL:P3D
REFRESH-INTERVAL:P3D
CALSCALE:GREGORIAN
BEGIN:VEVENT
DTSTART:20260505T230000Z
DTEND:20260506T010000Z
X-MICROSOFT-CDO-ALLDAYEVENT:FALSE
SUMMARY:Entrepreneur for a Day
DESCRIPTION:Discover the entrepreneurial spirit with the Westminster Chamber of Commerce Entrepreneur for a Day program! \n\n \n\nThe Entrepreneur for a Day program is an exciting\, free program designed to empower kids\, ages 7-18\, with the knowledge and skills to start their own business. \n\n \n\nOn May 5\, 2026 participants will have the chance to showcase their business and sell their products at the annual Taste of Westminster event! \n\n \n\nTo receive more information or for any questions\, please contact the Westminster Chamber at info@westminsterchamber.biz.
X-ALT-DESC;FMTTYPE=text/html:<p class="cvGsUA direction-ltr align-center para-style-body" style="color: rgba(254\,254\,254\,var(--O42jJQ\,1))\; caret-color: rgb(254\, 254\, 254)\; --8sD0Kg: none\; font-family: YAFdtQi73Xs_0\, _fb_\, auto\; --cyV3ZQ: 18.667px\; --gJPlXQ: 1.4\; --s8NbEA: p\; line-height: 26px\;"><span style="color:#000000\;"><span class="a_GcMg font-feature-liga-off font-feature-clig-off font-feature-calt-off text-decoration-none text-strikethrough-none" style="--Ys-XuQ: none\; font-kerning: none\;">Discover the entrepreneurial spirit with the Westminster Chamber of Commerce Entrepreneur for a Day program!</span><span class="a_GcMg font-feature-liga-off font-feature-clig-off font-feature-calt-off text-decoration-none text-strikethrough-none white-space-prewrap" style="--Ys-XuQ: none\; font-kerning: none\;"> </span></span></p>\n\n<p class="cvGsUA direction-ltr align-center para-style-body" style="color: rgba(254\,254\,254\,var(--O42jJQ\,1))\; caret-color: rgb(254\, 254\, 254)\; --8sD0Kg: none\; font-family: YAFdtQi73Xs_0\, _fb_\, auto\; --cyV3ZQ: 18.667px\; --gJPlXQ: 1.4\; --s8NbEA: p\; line-height: 26px\;">&nbsp\;</p>\n\n<p class="cvGsUA direction-ltr align-center para-style-body" style="color: rgba(254\,254\,254\,var(--O42jJQ\,1))\; caret-color: rgb(254\, 254\, 254)\; --8sD0Kg: none\; font-family: YAFdtQi73Xs_0\, _fb_\, auto\; --cyV3ZQ: 18.667px\; --gJPlXQ: 1.4\; --s8NbEA: p\; line-height: 26px\;"><span style="color:#000000\;"><span class="a_GcMg font-feature-liga-off font-feature-clig-off font-feature-calt-off text-decoration-none text-strikethrough-none" style="--Ys-XuQ: none\; font-kerning: none\;">The Entrepreneur for a Day program is an exciting\, free program designed to empower kids\, ages 7-18\, with the knowledge and skills to start their own business.</span><span class="a_GcMg font-feature-liga-off font-feature-clig-off font-feature-calt-off text-decoration-none text-strikethrough-none white-space-prewrap" style="--Ys-XuQ: none\; font-kerning: none\;"> </span></span></p>\n\n<p class="cvGsUA direction-ltr align-center para-style-body" style="color: rgba(254\,254\,254\,var(--O42jJQ\,1))\; caret-color: rgb(254\, 254\, 254)\; --8sD0Kg: none\; font-family: YAFdtQi73Xs_0\, _fb_\, auto\; --cyV3ZQ: 18.667px\; --gJPlXQ: 1.4\; --s8NbEA: p\; line-height: 26px\;">&nbsp\;</p>\n\n<p class="cvGsUA direction-ltr align-center para-style-body" style="color: rgba(254\,254\,254\,var(--O42jJQ\,1))\; caret-color: rgb(254\, 254\, 254)\; --8sD0Kg: none\; font-family: YAFdtQi73Xs_0\, _fb_\, auto\; --cyV3ZQ: 18.667px\; --gJPlXQ: 1.4\; --s8NbEA: p\; line-height: 26px\;"><span style="color:#000000\;"><span class="a_GcMg font-feature-liga-off font-feature-clig-off font-feature-calt-off text-decoration-none text-strikethrough-none" style="--Ys-XuQ: none\; font-kerning: none\;">On May 5\, 2026 participants will have the chance to showcase their business and sell their products at the annual Taste of Westminster event!</span><span class="a_GcMg font-feature-liga-off font-feature-clig-off font-feature-calt-off text-decoration-none text-strikethrough-none white-space-prewrap" style="--Ys-XuQ: none\; font-kerning: none\;"> </span></span></p>\n\n<p class="cvGsUA direction-ltr align-center para-style-body" style="color: rgba(254\,254\,254\,var(--O42jJQ\,1))\; caret-color: rgb(254\, 254\, 254)\; --8sD0Kg: none\; font-family: YAFdtQi73Xs_0\, _fb_\, auto\; --cyV3ZQ: 18.667px\; --gJPlXQ: 1.4\; --s8NbEA: p\; line-height: 26px\;">&nbsp\;</p>\n\n<p class="cvGsUA direction-ltr align-center para-style-body" style="color: rgba(254\,254\,254\,var(--O42jJQ\,1))\; caret-color: rgb(254\, 254\, 254)\; --8sD0Kg: none\; font-family: YAFdtQi73Xs_0\, _fb_\, auto\; --cyV3ZQ: 18.667px\; --gJPlXQ: 1.4\; --s8NbEA: p\; line-height: 26px\;"><span style="color:#000000\;"><span class="a_GcMg font-feature-liga-off font-feature-clig-off font-feature-calt-off text-decoration-none text-strikethrough-none" style="--Ys-XuQ: none\; font-kerning: none\;">To receive more information or for any questions\, please contact the Westminster Chamber at info@westminsterchamber.biz.</span></span></p>\n
LOCATION:DoubleTree Westminster
UID:e.2690.22364
SEQUENCE:3
DTSTAMP:20260423T195638Z
URL:https://www.westminsterchamber.biz/events/details/entrepreneur-for-a-day-22364
END:VEVENT

END:VCALENDAR
