BEGIN:VCALENDAR
VERSION:2.0
PRODID:-//ChamberMaster//Event Calendar 2.0//EN
METHOD:PUBLISH
X-PUBLISHED-TTL:P3D
REFRESH-INTERVAL:P3D
CALSCALE:GREGORIAN
BEGIN:VEVENT
DTSTART:20260426T223000Z
DTEND:20260426T234500Z
X-MICROSOFT-CDO-ALLDAYEVENT:FALSE
SUMMARY:Exhale at the Grange: A Sunday Sound Bath (Member Event)
DESCRIPTION:Please register HERE.\n\n\n\nFor this special evening\, the Broomfield Crescent Grange will be transformed into a sound sanctuary\, a spacious and resonant hall where sound can fully bloom and travel.\nThree sound practitioners will come together to create an immersive field of vibration using crystal singing bowls\, chimes\, drums\, and other sacred instruments. As the layered tones ripple through the room\, the natural acoustics of the Grange allow the sound to gently surround and hold you\, inviting your body to soften and nervous system to shift into deep rest.\n\nPlease bring a yoga mat\, blanket\, pillow\, and anything else that will help you feel comfortable.
X-ALT-DESC;FMTTYPE=text/html:Please register <a href="https://www.eventbrite.com/e/exhale-at-the-grange-a-sunday-sound-bath-tickets-1986664016553">HERE</a>.<br />\n<br />\nFor this special evening\, the&nbsp\;<strong>Broomfield Crescent Grange</strong>&nbsp\;will be transformed into a sound sanctuary\, a spacious and resonant hall where sound can fully bloom and travel.\n<p>Three sound practitioners will come together to create an immersive field of vibration using crystal singing bowls\, chimes\, drums\, and other sacred instruments. As the layered tones ripple through the room\, the natural acoustics of the Grange allow the sound to gently surround and hold you\, inviting your body to soften and nervous system to shift into deep rest.</p>\n\n<p>Please bring a yoga mat\, blanket\, pillow\, and anything else that will help you feel comfortable.</p>\n
LOCATION:Broomfield Crescent Grange 7901 W 120th Ave. Broomfield\, CO
UID:e.2690.22363
SEQUENCE:3
DTSTAMP:20260423T092319Z
URL:https://www.westminsterchamber.biz/events/details/exhale-at-the-grange-a-sunday-sound-bath-member-event-22363
END:VEVENT

END:VCALENDAR
