BEGIN:VCALENDAR
VERSION:2.0
PRODID:-//ChamberMaster//Event Calendar 2.0//EN
METHOD:PUBLISH
X-PUBLISHED-TTL:P3D
REFRESH-INTERVAL:P3D
CALSCALE:GREGORIAN
BEGIN:VEVENT
DTSTART:20210921T000000Z
DTEND:20210921T020000Z
X-MICROSOFT-CDO-ALLDAYEVENT:FALSE
SUMMARY:Face to Face Ladies Mix & Mingle Networking Event
DESCRIPTION:Come enjoy a NEW way of Face to Face\, Small Group Connecting and Networking! This FREE event is open to all Women owned businesses and entrepreneurs! \n\n\n\nRSVP "GOING" as we have capacity for 30 total women for the event! \n\n\n\nContact Connie Kercher\, Connie@switchboardnb.com or (720) 612-4095 for further information.
X-ALT-DESC;FMTTYPE=text/html:<span style="font-family:arial\,helvetica\,sans-serif">Come enjoy a NEW way of Face to Face\, Small Group Connecting and Networking! This FREE event is open to all Women owned businesses and entrepreneurs!&nbsp\;<br />\n<br />\nRSVP &quot\;GOING&quot\; as we have capacity for 30 total women for the event!&nbsp\;<br />\n<br />\nContact Connie Kercher\, Connie@switchboardnb.com or (720) 612-4095 for further information.</span>&nbsp\;
LOCATION:1975 W 120th Ave. Suite 800 Westminster Colorado 80234
UID:e.2690.13006
SEQUENCE:3
DTSTAMP:20260420T084551Z
URL:https://www.westminsterchamber.biz/events/details/face-to-face-ladies-mix-mingle-networking-event-09-20-2021-13006
END:VEVENT

END:VCALENDAR
