BEGIN:VCALENDAR
VERSION:2.0
PRODID:-//ChamberMaster//Event Calendar 2.0//EN
METHOD:PUBLISH
X-PUBLISHED-TTL:P3D
REFRESH-INTERVAL:P3D
CALSCALE:GREGORIAN
BEGIN:VEVENT
DTSTART:20190627T220000Z
DTEND:20190628T010000Z
X-MICROSOFT-CDO-ALLDAYEVENT:FALSE
SUMMARY:Family Bike Party at The Orchard
DESCRIPTION:The Orchard Town Center in Westminster will host its 56h Annual Family Bike Party on Thursday\, June 27th to celebrate Bike to Work Day. Families are invited to celebrate Bike to Work Day with a free event featuring a raffle\, discounts\, live music\, balloon art\, and an REI bike mechanic. The party will be from 4:00 PM to 7:00 PM\, and many of the businesses in The Orchard will be offering free food\, prizes and lots of fun for all ages. Families are invited to ride their bikes over to The Orchard to enjoy the evening.
X-ALT-DESC;FMTTYPE=text/html:The Orchard Town Center in Westminster will host its 56h Annual Family Bike Party on Thursday\, June 27th to celebrate Bike to Work Day. Families are invited to celebrate Bike to Work Day with a free event featuring a raffle\, discounts\, live music\, balloon art\, and an REI bike mechanic. The party will be from 4:00 PM to 7:00 PM\, and many of the businesses in The Orchard will be offering free food\, prizes and lots of fun for all ages. Families are invited to ride their bikes over to The Orchard to enjoy the evening.
LOCATION:Orchard Town Center 14697 Delaware St. Westminster CO 80023
UID:e.2690.10910
SEQUENCE:3
DTSTAMP:20260419T232923Z
URL:https://www.westminsterchamber.biz/events/details/family-bike-party-at-the-orchard-10910
END:VEVENT

END:VCALENDAR
