BEGIN:VCALENDAR
VERSION:2.0
PRODID:-//ChamberMaster//Event Calendar 2.0//EN
METHOD:PUBLISH
X-PUBLISHED-TTL:P3D
REFRESH-INTERVAL:P3D
CALSCALE:GREGORIAN
BEGIN:VEVENT
DTSTART:20171217T023000Z
DTEND:20171217T053000Z
X-MICROSOFT-CDO-ALLDAYEVENT:FALSE
SUMMARY:Fly Me to the Moon: A Gatsby Circus
DESCRIPTION:Join us this winter for two evenings of 1920's themed live music\, aerial dance\, food\, drinks\, silent auction and dancing! Featuring live music from the Gypsy Jazz Denver Band! Saturday evening's\, adult only\, show will feature performances by our professional and adult student companies. Take part in our exclusive wine tasting with paired appetizers from Wines for Humanity for only an additional $10! Dance to live music by the Gypsy Jazz Denver band and take part in a FREE swing dancing lesson. Required dress code is cocktail attire for this formal affair. Bonus if you come dressed in 1920's attire! Come dressed for a fun evening out solo or with your loved one and come dance the night away in our Gatsby themed circus! Adult (Show Only) $18.00 General admission ticket for the show only. No wine tasting or food included. Adult (Show & Wine Tasting/Appetizers)$28.00 General admission ticket for the show and wine tasting/appetizer food pairing. BUY TICKETS HERE: https://www.artful.ly/store/events/13821
X-ALT-DESC;FMTTYPE=text/html:Join us this winter for two evenings of 1920&rsquo\;s themed live music\, aerial dance\, food\, drinks\, silent auction and dancing! Featuring live music from the Gypsy Jazz Denver Band! Saturday evening&#39\;s\, adult only\, show will feature performances by our professional and adult student companies. Take part in our exclusive wine tasting with paired appetizers from Wines for Humanity for only an additional $10! Dance to live music by the Gypsy Jazz Denver band and take part in a FREE swing dancing lesson. Required dress code is cocktail attire for this formal affair. Bonus if you come dressed in 1920&#39\;s attire! Come dressed for a fun evening out solo or with your loved one and come dance the night away in our Gatsby themed circus! Adult (Show Only) $18.00 General admission ticket for the show only. No wine tasting or food included. Adult (Show &amp\; Wine Tasting/Appetizers)$28.00 General admission ticket for the show and wine tasting/appetizer food pairing. BUY TICKETS HERE:&nbsp\;https://www.artful.ly/store/events/13821
LOCATION:Iluminar Aerial 2655 Industrial Lane Broomfield Colorado 80020
UID:e.2690.5614
SEQUENCE:3
DTSTAMP:20260421T070815Z
URL:https://www.westminsterchamber.biz/events/details/fly-me-to-the-moon-a-gatsby-circus-5614
END:VEVENT

END:VCALENDAR
