BEGIN:VCALENDAR
VERSION:2.0
PRODID:-//ChamberMaster//Event Calendar 2.0//EN
METHOD:PUBLISH
X-PUBLISHED-TTL:P3D
REFRESH-INTERVAL:P3D
CALSCALE:GREGORIAN
BEGIN:VEVENT
DTSTART:20170715T003000Z
DTEND:20170715T020000Z
X-MICROSOFT-CDO-ALLDAYEVENT:FALSE
SUMMARY:FREE Psychic Event with Psychic Medium Troy Griffin
DESCRIPTION:Join Psychic Medium Troy Griffin for a free psychic even at Starbucks in Westminster! One free per person until time permits.
X-ALT-DESC;FMTTYPE=text/html:Join Psychic Medium Troy Griffin for a free psychic even at Starbucks in Westminster! One free per person until time permits.
LOCATION:Starbucks 9379 Sheridan Blvd. Westminster\, CO 80031
UID:e.2690.5426
SEQUENCE:3
DTSTAMP:20260421T152915Z
URL:https://www.westminsterchamber.biz/events/details/free-psychic-event-with-psychic-medium-troy-griffin-07-14-2017-5426
END:VEVENT

END:VCALENDAR
