BEGIN:VCALENDAR
VERSION:2.0
PRODID:-//ChamberMaster//Event Calendar 2.0//EN
METHOD:PUBLISH
X-PUBLISHED-TTL:P3D
REFRESH-INTERVAL:P3D
CALSCALE:GREGORIAN
BEGIN:VEVENT
DTSTART:20170709T010000Z
DTEND:20170709T023000Z
X-MICROSOFT-CDO-ALLDAYEVENT:FALSE
SUMMARY:FREE Psychic Event with Psychic Medium Troy Griffin
DESCRIPTION:Psychic Medium Troy Griffin will be hosting a FREE psychic event at La Dolce Vita Coffeehouse in Olde Town Arvada on July 8th from 7-8:30pm. Troy will answer one free question per person while time permits. For more information visit his website at www.psychicmediumtroy.com.
X-ALT-DESC;FMTTYPE=text/html:Psychic Medium Troy Griffin will be hosting a FREE psychic event at La Dolce Vita Coffeehouse in Olde Town Arvada on July 8th from 7-8:30pm. Troy will answer one free question per person while time permits. For more information visit his website at www.psychicmediumtroy.com.
LOCATION:La Dolce Vita Cafe 5765 Olde Wadsworth Boulevard Arvada\, CO 80002
UID:e.2690.5422
SEQUENCE:3
DTSTAMP:20260421T171408Z
URL:https://www.westminsterchamber.biz/events/details/free-psychic-event-with-psychic-medium-troy-griffin-5422
END:VEVENT

END:VCALENDAR
