BEGIN:VCALENDAR
VERSION:2.0
PRODID:-//ChamberMaster//Event Calendar 2.0//EN
METHOD:PUBLISH
X-PUBLISHED-TTL:P3D
REFRESH-INTERVAL:P3D
CALSCALE:GREGORIAN
BEGIN:VEVENT
DTSTART:20190706T000000Z
DTEND:20190706T020000Z
X-MICROSOFT-CDO-ALLDAYEVENT:FALSE
SUMMARY:Friday Family Fun Nights!
DESCRIPTION:Bring the family down to The Orchard every Friday night for Friday Night Family Fun! Some nights the audience may be part of the show\, and some nights you just sit back and enjoy the entertainment. Every week is a new theme! FREE and open to the public. All Shows run on Friday nights 6-8pm on The Orchard entertainment stage. July 5th: USO Show Tribute to Veterans\; July 12th: Family Game Night!\; July 19th: Lip Sync Battles\; July 26th: MTV Live.
X-ALT-DESC;FMTTYPE=text/html:Bring the family down to The Orchard every Friday night for Friday Night Family Fun! Some nights the audience may be part of the show\, and some nights you just sit back and enjoy the entertainment. Every week is a new theme! FREE and open to the public. All Shows run on Friday nights 6-8pm on The Orchard entertainment stage. July 5th: USO Show Tribute to Veterans\; July 12th: Family Game Night!\; July 19th: Lip Sync Battles\; July 26th: MTV Live.
LOCATION:The Orchard Town Center 14697 Delaware Street Westminster CO 80023
UID:e.2690.11058
SEQUENCE:3
DTSTAMP:20260420T010707Z
URL:https://www.westminsterchamber.biz/events/details/friday-family-fun-nights-11058
END:VEVENT

END:VCALENDAR
