BEGIN:VCALENDAR
VERSION:2.0
PRODID:-//ChamberMaster//Event Calendar 2.0//EN
METHOD:PUBLISH
X-PUBLISHED-TTL:P3D
REFRESH-INTERVAL:P3D
CALSCALE:GREGORIAN
BEGIN:VEVENT
DTSTART:20190703T003000Z
DTEND:20190703T030000Z
X-MICROSOFT-CDO-ALLDAYEVENT:FALSE
SUMMARY:Fundraiser with Tracy's Place
DESCRIPTION:In honor of our fallen heroes and their families. We will be painting "Thin Blue Line" on pallets that Tracy's Place staff has built for you. You can chose to have your "line" any other meaningful color\, Absolutely no experience is needed to create this beautiful piece of art for yourself. \n\nIf you do not want to paint with us\, we will ALSO donate a portion of the days coffee and merchandise sales\, Join us from 7a to 5p for coffee\, tea\, soda and more. \n\nWe would like to positively impact our community in Arvada by donating a portion of the days sales (coffee\, classes and merchandise) to help families of those that have been lost in the line of duty\, through The W. Michael Northey Foundation. \n\nPallets are approx 16 x 20 in size. This class will take about 2.5 hours to complete. \n\nAll supplies\, tools and first beverage of choice are included in the price of the class. You can choose from wine*\, beer*\, hard cider*\, espresso coffee\, chai tea\, herbal teas\, and many other options.\n\nNO experience necessary. This class usually takes about 1 1/2 hours to complete.\n\n*MUST show a valid ID to consume alcohol.
X-ALT-DESC;FMTTYPE=text/html:<p>In honor of our fallen heroes and their families. We will be painting &quot\;Thin Blue Line&quot\; on pallets that Tracy&#39\;s Place staff has built for you. You can chose to have your &quot\;line&quot\; any other meaningful color\, Absolutely no experience is needed to create this beautiful piece of art for yourself.&nbsp\;<br />\nIf you do not want to paint with us\, we will ALSO donate a portion of the days coffee and merchandise sales\, Join us from 7a to 5p for coffee\, tea\, soda and more.&nbsp\;</p>\n\n<p>We would like to positively impact our community in Arvada&nbsp\;by donating a portion of the days sales (coffee\, classes and merchandise) to help families of those that have been lost in the line of duty\, through&nbsp\;<strong><a href="https://northeyfoundation.org/" style="box-sizing: border-box\; background-color: transparent\; color: rgb(90\, 196\, 190)\; text-decoration-line: none\;" target="">The W. Michael Northey Foundation</a>.&nbsp\;</strong></p>\n\n<p>Pallets are approx 16 x 20 in size. This class will take about 2.5 hours to complete.&nbsp\;</p>\n\n<p>All supplies\, tools and first beverage of choice are included in the price of the class. You can choose from wine*\, beer*\, hard cider*\, espresso coffee\, chai tea\, herbal teas\, and many other options.</p>\n\n<p>NO experience necessary. This class usually takes about 1 1/2 hours to complete.</p>\n\n<p>*MUST show a valid ID to consume alcohol.&nbsp\;</p>\n
LOCATION:Tracy's Place 7330 W 88th Ave Unit E One block east of 88th and Wadsworth on the Southside of 88th next to Cool Cuts for Kids.
UID:e.2690.11473
SEQUENCE:3
DTSTAMP:20260420T010555Z
URL:https://www.westminsterchamber.biz/events/details/fundraiser-with-tracy-s-place-11473
END:VEVENT

END:VCALENDAR
