BEGIN:VCALENDAR
VERSION:2.0
PRODID:-//ChamberMaster//Event Calendar 2.0//EN
METHOD:PUBLISH
X-PUBLISHED-TTL:P3D
REFRESH-INTERVAL:P3D
CALSCALE:GREGORIAN
BEGIN:VEVENT
DTSTART;VALUE=DATE:20170424
DTEND;VALUE=DATE:20170513
TRANSP:TRANSPARENT
X-MICROSOFT-CDO-ALLDAYEVENT:TRUE
SUMMARY:GIVE Denver's 3rd annual Spring Showers Hygiene Drive
DESCRIPTION:GIVE Denver is excited to announce our 3rd annual Spring Showers Hygiene Drive (April 24-May 12\, 2017)! With the help of community partners and supporters\, we were able to raise 3\,000 gallons of hygiene items in 2015 and 2016 combined! This year we hope to raise another 2\,000 gallons of hygiene to distribute to our GIVE Center and Denver Human Services customers in need. Please consider adopting a bin for your business or organization\, making a monetary donation for us to go shopping for more items\, and/or donating hygiene items! Visit the GIVE Denver website for more information on donation locations or volunteer opportunities (www.DenverGov.org/GIVE) or contact GIVE's Donations & Drives Coordinator\, Aiza Oliva (aiza.oliva@denvergov.org).
X-ALT-DESC;FMTTYPE=text/html:GIVE Denver is excited to announce our 3rd annual Spring Showers Hygiene Drive (April 24-May 12\, 2017)! With the help of community partners and supporters\, we were able to raise 3\,000 gallons of hygiene items in 2015 and 2016 combined! This year we hope to raise another 2\,000 gallons of hygiene to distribute to our GIVE Center and Denver Human Services customers in need. Please consider adopting a bin for your business or organization\, making a monetary donation for us to go shopping for more items\, and/or donating hygiene items! Visit the GIVE Denver website for more information on donation locations or volunteer opportunities (www.DenverGov.org/GIVE) or contact GIVE&#39\;s Donations &amp\; Drives Coordinator\, Aiza Oliva (aiza.oliva@denvergov.org).
LOCATION:Locations across Denver County
UID:e.2690.5001
SEQUENCE:3
DTSTAMP:20260421T184736Z
URL:https://www.westminsterchamber.biz/events/details/give-denver-s-3rd-annual-spring-showers-hygiene-drive-5001
END:VEVENT

END:VCALENDAR
