BEGIN:VCALENDAR
VERSION:2.0
PRODID:-//ChamberMaster//Event Calendar 2.0//EN
METHOD:PUBLISH
X-PUBLISHED-TTL:P3D
REFRESH-INTERVAL:P3D
CALSCALE:GREGORIAN
BEGIN:VEVENT
DTSTART:20170509T143000Z
DTEND:20170509T153000Z
X-MICROSOFT-CDO-ALLDAYEVENT:FALSE
SUMMARY:Government Affairs Committee Meeting
DESCRIPTION:Please join us for the Westminster Chamber of Commerce Government Affairs Committee Meeting.\n\n\n\nWe are your biggest champion.  Our Government Affairs Committee is the business advocacy arm of our organization.  We work closely with the City of Westminster on local issues\, like the sign code\, that impact our businesses.  We get involve din regional and state issues as well.  We work closely with our elected officials to create a better business climate.  Our lobbyist\, Jeff Weist\, works hard for your down at the State Capitol.  We want to know where you stand on local\, regional and state issues.
X-ALT-DESC;FMTTYPE=text/html:Please join us for the Westminster Chamber of Commerce Government Affairs Committee Meeting.<br />\n<br />\nWe are your biggest champion. &nbsp\;Our Government Affairs Committee is the business advocacy arm of our organization. &nbsp\;We work closely with the City of Westminster on local issues\, like the sign code\, that impact our businesses. &nbsp\;We get involve din regional and state issues as well. &nbsp\;We work closely with our elected officials to create a better business climate. &nbsp\;Our lobbyist\, Jeff Weist\, works hard for your down at the State Capitol. &nbsp\;We want to know where you stand on local\, regional and state issues.
LOCATION:Chamber Office 9191 Sheridan Blvd Westminster\, CO
UID:e.2690.2767
SEQUENCE:3
DTSTAMP:20260421T184531Z
URL:https://www.westminsterchamber.biz/events/details/government-affairs-committee-meeting-05-09-2017-2767
END:VEVENT

END:VCALENDAR
