BEGIN:VCALENDAR
VERSION:2.0
PRODID:-//ChamberMaster//Event Calendar 2.0//EN
METHOD:PUBLISH
X-PUBLISHED-TTL:P3D
REFRESH-INTERVAL:P3D
CALSCALE:GREGORIAN
BEGIN:VEVENT
DTSTART;VALUE=DATE:20181222
DTEND;VALUE=DATE:20181223
TRANSP:TRANSPARENT
X-MICROSOFT-CDO-ALLDAYEVENT:TRUE
SUMMARY:Grand Opening Celebration for Urban Air Adventure Park in Westminster
DESCRIPTION:Join us for our Grand Opening in Westminster on Saturday\, December 22! Doors open at 10 a.m.\, but the first 200 guests through the door to purchase an Ultimate Jump Pass will receive a FREE hour of jumping every week for a year! We're also donating one pass for every sold during Boys & Girls Clubs of Westminster. Line up early\, bring the energy\, and get ready to #ActivateAwesome!
X-ALT-DESC;FMTTYPE=text/html:Join us for our Grand Opening in Westminster on Saturday\, December 22! Doors open at 10 a.m.\, but the first 200 guests through the door to purchase an Ultimate Jump Pass will receive a FREE hour of jumping every week for a year! We&rsquo\;re also donating one pass for every sold during Boys &amp\; Girls Clubs of Westminster. Line up early\, bring the energy\, and get ready to #ActivateAwesome!
LOCATION:7025 West 88th Avenue Westminster\, CO 80021
UID:e.2690.10227
SEQUENCE:3
DTSTAMP:20260420T111822Z
URL:https://www.westminsterchamber.biz/events/details/grand-opening-celebration-for-urban-air-adventure-park-in-westminster-10227
END:VEVENT

END:VCALENDAR
