BEGIN:VCALENDAR
VERSION:2.0
PRODID:-//ChamberMaster//Event Calendar 2.0//EN
METHOD:PUBLISH
X-PUBLISHED-TTL:P3D
REFRESH-INTERVAL:P3D
CALSCALE:GREGORIAN
BEGIN:VEVENT
DTSTART:20181017T233000Z
DTEND:20181018T020000Z
X-MICROSOFT-CDO-ALLDAYEVENT:FALSE
SUMMARY:Grand Opening Celebration - Gracious Beauty & Skincare
DESCRIPTION:Join us for a ribbon cutting for the grand opening of Gracious Beauty. We will offer refreshments\, product samples and drawings for several great prizes. Ben Fuchs\, R.Ph. of Truth Treatments Systems will be a special guest speaker.
X-ALT-DESC;FMTTYPE=text/html:<p style="margin: 0px\;"><font color="#000000" face="Calibri" size="3">Join us for a ribbon cutting for the grand opening of Gracious Beauty. We will offer refreshments\, product samples and drawings for several great prizes. Ben Fuchs\, R.Ph. of Truth Treatments Systems will be a special guest speaker.</font></p>\n
LOCATION:Gracious Beauty Studio 2010 West 120th\, Suite 100 Westminster\, CO
UID:e.2690.10194
SEQUENCE:3
DTSTAMP:20260420T144323Z
URL:https://www.westminsterchamber.biz/events/details/grand-opening-celebration-gracious-beauty-skincare-10194
END:VEVENT

END:VCALENDAR
