BEGIN:VCALENDAR
VERSION:2.0
PRODID:-//ChamberMaster//Event Calendar 2.0//EN
METHOD:PUBLISH
X-PUBLISHED-TTL:P3D
REFRESH-INTERVAL:P3D
CALSCALE:GREGORIAN
BEGIN:VEVENT
DTSTART;VALUE=DATE:20171209
DTEND;VALUE=DATE:20171210
TRANSP:TRANSPARENT
X-MICROSOFT-CDO-ALLDAYEVENT:TRUE
SUMMARY:Grand Opening - Colorado Center for Animal Pain Management & Rehabilitation
DESCRIPTION:CCAPM is proud to announce our grand opening/open house on December 9th from 12-3pm. Please come by to see our gait system that we use in order to get a better idea of how we can detect lameness and most importantly how we can monitor improvements from a multitude of therapies and current clinical studies. CCAPM is exclusively conducting an ongoing clinical gene therapy study for the treatment of pain from osteoarthritis. We are extremely encouraged from the results and anticipate this gene therapy will dramatically improve the level of pain and suffering that our companion animals experience. Please come by to inquire about the details. There is no cost to the owners once they have determined eligibility. We look forward to meeting you.  Please call the office 720-502-5823 or visit for a tour.
X-ALT-DESC;FMTTYPE=text/html:&nbsp\;<br />\n<span style="background-image:initial\;background-position:initial\;background-size:initial\;background-repeat:initial\;background-attachment:initial\;background-origin:initial\;background-clip:initial\;"><span style="color:#1d2129\;"><span style="font-family:helvetica\,sans-serif\;"><span style="font-size:10.5pt\;">CCAPM is proud to announce our grand opening/open house on December 9th from 12-3pm. Please come by to see our gait system that we use in order to get a better idea of how we can detect lameness and most importantly how we can monitor improvements from a multitude of therapies and current clinical studies. CCAPM is exclusively conducting an ongoing clinical gene therapy study for the treatment of pain from osteoarthritis. We are extremely encouraged from the results and anticipate this gene therapy will dramatically improve the level of pain and suffering that our companion animals experience. Please come by to inquire about the details. There is no cost to the owners once they have determined eligibility. We look forward to meeting you.&nbsp\; Please call the office 720-502-5823 or visit for a tour.&nbsp\;&nbsp\;</span></span></span></span>
LOCATION:4750 West 120th Avenue\, Suite 400 Westminster\, CO 80020
UID:e.2690.5603
SEQUENCE:3
DTSTAMP:20260421T071023Z
URL:https://www.westminsterchamber.biz/events/details/grand-opening-colorado-center-for-animal-pain-management-rehabilitation-5603
END:VEVENT

END:VCALENDAR
