BEGIN:VCALENDAR
VERSION:2.0
PRODID:-//ChamberMaster//Event Calendar 2.0//EN
METHOD:PUBLISH
X-PUBLISHED-TTL:P3D
REFRESH-INTERVAL:P3D
CALSCALE:GREGORIAN
BEGIN:VEVENT
DTSTART:20190119T180000Z
DTEND:20190119T190000Z
X-MICROSOFT-CDO-ALLDAYEVENT:FALSE
SUMMARY:Grand Opening: Menchie's on The Promenade
DESCRIPTION:Help us celebrate the grand opening of Menchie's on the Promenade in Westminster. Ribbon Cutting will take place between 11AM-11:30AM\, free yogurt samples to celebrate.
X-ALT-DESC;FMTTYPE=text/html:Help us celebrate the grand opening of Menchie&#39\;s on the Promenade in Westminster. Ribbon Cutting will take place between 11AM-11:30AM\, free yogurt samples to celebrate.&nbsp\;
LOCATION:6415 W 104th Ave Suite 200 Westminster\, CO 80023
UID:e.2690.10503
SEQUENCE:3
DTSTAMP:20260420T093422Z
URL:https://www.westminsterchamber.biz/events/details/grand-opening-menchie-s-on-the-promenade-10503
END:VEVENT

END:VCALENDAR
