BEGIN:VCALENDAR
VERSION:2.0
PRODID:-//ChamberMaster//Event Calendar 2.0//EN
METHOD:PUBLISH
X-PUBLISHED-TTL:P3D
REFRESH-INTERVAL:P3D
CALSCALE:GREGORIAN
BEGIN:VEVENT
DTSTART:20180607T220000Z
DTEND:20180608T010000Z
X-MICROSOFT-CDO-ALLDAYEVENT:FALSE
SUMMARY:Grand Opening Party/Ribbon Cutting
DESCRIPTION:Join us for the official grand opening party of the Hyatt Place Denver/Westminster.  The event runs from 4:00PM-7:00PM and features a ribbon cutting right around 5PM.
X-ALT-DESC;FMTTYPE=text/html:Join us for the official grand opening party of the Hyatt Place Denver/Westminster.&nbsp\; The event runs from 4:00PM-7:00PM and features a ribbon cutting right around 5PM.&nbsp\;
LOCATION:Hyatt Place Denver/Westminster 6865 West 103rd Avenue Westminster\, CO 80021
UID:e.2690.6754
SEQUENCE:3
DTSTAMP:20260420T220218Z
URL:https://www.westminsterchamber.biz/events/details/grand-opening-party-ribbon-cutting-6754
END:VEVENT

END:VCALENDAR
