BEGIN:VCALENDAR
VERSION:2.0
PRODID:-//ChamberMaster//Event Calendar 2.0//EN
METHOD:PUBLISH
X-PUBLISHED-TTL:P3D
REFRESH-INTERVAL:P3D
CALSCALE:GREGORIAN
BEGIN:VEVENT
DTSTART:20180421T160000Z
DTEND:20180421T200000Z
X-MICROSOFT-CDO-ALLDAYEVENT:FALSE
SUMMARY:Grand Opening Party & Ribbon Cutting VASA
DESCRIPTION:Opening Party   April 21st\n\n (10am   2pm)\n\nFree food\, prizes & more!\n\n\n\nJoin the Westminster Chamber at 10AM for the ribbon cutting at our friends at VASA Fitness.
X-ALT-DESC;FMTTYPE=text/html:<u>Opening Party &ndash\; April 21st</u><br />\n&nbsp\;(10am &ndash\; 2pm)<br />\nFree food\, prizes &amp\; more!<br />\n<br />\nJoin the Westminster Chamber at 10AM for the ribbon cutting at our friends at VASA Fitness.
LOCATION:8433 Church Ranch Blvd Westminster\, CO 80021
UID:e.2690.6768
SEQUENCE:3
DTSTAMP:20260421T014529Z
URL:https://www.westminsterchamber.biz/events/details/grand-opening-party-ribbon-cutting-vasa-6768
END:VEVENT

END:VCALENDAR
