BEGIN:VCALENDAR
VERSION:2.0
PRODID:-//ChamberMaster//Event Calendar 2.0//EN
METHOD:PUBLISH
X-PUBLISHED-TTL:P3D
REFRESH-INTERVAL:P3D
CALSCALE:GREGORIAN
BEGIN:VEVENT
DTSTART:20180217T170000Z
DTEND:20180217T173000Z
X-MICROSOFT-CDO-ALLDAYEVENT:FALSE
SUMMARY:Grand Opening & Ribbon Cutting: Local Foods Market
DESCRIPTION:The Local Foods Market Team has been working nonstop to open the doors and now that day has come\, February 17th. We would love to have the entire neighborhood join us at 10AM for the ribbon cutting!\n\n\n\nWhat else can you expect from the store on opening day? For starters\, fresh produce\, meat\, and seafood. A wellness department with vitamins\, supplements\, body care\, and makeup. Staffed with experts that can help educate you on the best remedies. Our grocery department is stocked with every brand you know\, and some you don't. Last but not least\, Rise and Grind Cafe! This may look like a coffee bar but its much more than that. Rise and Grind Cafe will not only be serving fresh organic DazBog coffee. They will also have Happy Leaf Kombucha on tap\, a full line of nutritional smoothies\, as well as fresh pastries and grab-and-go items for breakfast and lunch daily! We're determined to pack as much value as possible in this store\, your store. So come check us out on Saturday!
X-ALT-DESC;FMTTYPE=text/html:<span style="color: rgb(75\, 79\, 86)\; font-family: Helvetica\, Arial\, sans-serif\; font-size: 14px\;">The Local Foods Market Team has been working nonstop to open the doors and now that day has come\, February 17th. We would love to have the entire neighborhood join us at&nbsp\;10AM for the ribbon cutting!<br />\n<br />\nWhat else can you expect from the store on opening day? For starters\, fresh produce\, meat\, and seafood. A wellness department with vitamins\, supplements\, body care\, and makeup. Staffed with experts that can help educate you on the best remedies. Our grocery department is stocked with every brand you know\, and some you don&#39\;t. Last but not least\, Rise and Grind Cafe! This may look like a coffee bar but its much more than that. Rise and Grind Cafe will not only be serving fresh organic DazBog coffee. They will also have Happy Leaf Kombucha on tap\, a full line of nutritional smoothies\, as well as fresh pastries and grab-and-go items for breakfast and lunch daily! We&#39\;re determined to pack as much value as possible in this store\, your store. So come check us out on Saturday!</span>
LOCATION:5005 West 72nd Avenue Westminster\, CO 80030
UID:e.2690.6641
SEQUENCE:3
DTSTAMP:20260421T035211Z
URL:https://www.westminsterchamber.biz/events/details/grand-opening-ribbon-cutting-local-foods-market-6641
END:VEVENT

END:VCALENDAR
